BEGIN:VCALENDAR
VERSION:2.0
PRODID:-//JJA Snack - ECPv6.15.20//NONSGML v1.0//EN
CALSCALE:GREGORIAN
METHOD:PUBLISH
X-WR-CALNAME:JJA Snack
X-ORIGINAL-URL:https://jjasnack.co.uk
X-WR-CALDESC:Events for JJA Snack
REFRESH-INTERVAL;VALUE=DURATION:PT1H
X-Robots-Tag:noindex
X-PUBLISHED-TTL:PT1H
BEGIN:VTIMEZONE
TZID:UTC
BEGIN:STANDARD
TZOFFSETFROM:+0000
TZOFFSETTO:+0000
TZNAME:UTC
DTSTART:20230101T000000
END:STANDARD
END:VTIMEZONE
BEGIN:VEVENT
DTSTART;TZID=UTC:20250117T110000
DTEND;TZID=UTC:20250117T123000
DTSTAMP:20260423T123331
CREATED:20241210T113402Z
LAST-MODIFIED:20241210T113402Z
UID:2727-1737111600-1737117000@jjasnack.co.uk
SUMMARY:Chocolate Making Experience
DESCRIPTION:
URL:https://jjasnack.co.uk/event/chocolate-making-experience-24/
END:VEVENT
BEGIN:VEVENT
DTSTART;TZID=UTC:20250117T093000
DTEND;TZID=UTC:20250117T110000
DTSTAMP:20260423T123331
CREATED:20241210T113302Z
LAST-MODIFIED:20241210T113302Z
UID:2724-1737106200-1737111600@jjasnack.co.uk
SUMMARY:Chocolate Making Experience
DESCRIPTION:
URL:https://jjasnack.co.uk/event/chocolate-making-experience-23/
END:VEVENT
BEGIN:VEVENT
DTSTART;TZID=UTC:20250116T110000
DTEND;TZID=UTC:20250116T123000
DTSTAMP:20260423T123331
CREATED:20241210T113225Z
LAST-MODIFIED:20241210T113225Z
UID:2721-1737025200-1737030600@jjasnack.co.uk
SUMMARY:Chocolate Making Experience
DESCRIPTION:
URL:https://jjasnack.co.uk/event/chocolate-making-experience-22/
END:VEVENT
BEGIN:VEVENT
DTSTART;TZID=UTC:20250116T093000
DTEND;TZID=UTC:20250116T110000
DTSTAMP:20260423T123331
CREATED:20241210T113130Z
LAST-MODIFIED:20241210T113130Z
UID:2718-1737019800-1737025200@jjasnack.co.uk
SUMMARY:Chocolate Making Experience
DESCRIPTION:
URL:https://jjasnack.co.uk/event/chocolate-making-experience-21/
END:VEVENT
BEGIN:VEVENT
DTSTART;TZID=UTC:20250115T110000
DTEND;TZID=UTC:20250115T123000
DTSTAMP:20260423T123331
CREATED:20241210T113044Z
LAST-MODIFIED:20241210T113044Z
UID:2715-1736938800-1736944200@jjasnack.co.uk
SUMMARY:Chocolate Making Experience
DESCRIPTION:
URL:https://jjasnack.co.uk/event/chocolate-making-experience-20/
END:VEVENT
BEGIN:VEVENT
DTSTART;TZID=UTC:20250115T093000
DTEND;TZID=UTC:20250115T110000
DTSTAMP:20260423T123331
CREATED:20241210T112958Z
LAST-MODIFIED:20241210T112958Z
UID:2712-1736933400-1736938800@jjasnack.co.uk
SUMMARY:Chocolate Making Experience
DESCRIPTION:
URL:https://jjasnack.co.uk/event/chocolate-making-experience-19/
END:VEVENT
BEGIN:VEVENT
DTSTART;TZID=UTC:20250112T110000
DTEND;TZID=UTC:20250112T123000
DTSTAMP:20260423T123331
CREATED:20241210T112914Z
LAST-MODIFIED:20241210T112914Z
UID:2709-1736679600-1736685000@jjasnack.co.uk
SUMMARY:Chocolate Making Experience
DESCRIPTION:
URL:https://jjasnack.co.uk/event/chocolate-making-experience-18/
END:VEVENT
BEGIN:VEVENT
DTSTART;TZID=UTC:20250112T093000
DTEND;TZID=UTC:20250112T110000
DTSTAMP:20260423T123331
CREATED:20241210T112805Z
LAST-MODIFIED:20241210T112805Z
UID:2706-1736674200-1736679600@jjasnack.co.uk
SUMMARY:Chocolate Making Experience
DESCRIPTION:
URL:https://jjasnack.co.uk/event/chocolate-making-experience-17/
END:VEVENT
BEGIN:VEVENT
DTSTART;TZID=UTC:20250111T110000
DTEND;TZID=UTC:20250111T123000
DTSTAMP:20260423T123331
CREATED:20241210T112720Z
LAST-MODIFIED:20241210T112720Z
UID:2703-1736593200-1736598600@jjasnack.co.uk
SUMMARY:Chocolate Making Experience
DESCRIPTION:
URL:https://jjasnack.co.uk/event/chocolate-making-experience-16/
END:VEVENT
BEGIN:VEVENT
DTSTART;TZID=UTC:20250111T093000
DTEND;TZID=UTC:20250111T110000
DTSTAMP:20260423T123331
CREATED:20241210T112633Z
LAST-MODIFIED:20241210T112633Z
UID:2700-1736587800-1736593200@jjasnack.co.uk
SUMMARY:Chocolate Making Experience
DESCRIPTION:
URL:https://jjasnack.co.uk/event/chocolate-making-experience-15/
END:VEVENT
BEGIN:VEVENT
DTSTART;TZID=UTC:20250110T110000
DTEND;TZID=UTC:20250110T123000
DTSTAMP:20260423T123331
CREATED:20241210T112547Z
LAST-MODIFIED:20241210T112547Z
UID:2697-1736506800-1736512200@jjasnack.co.uk
SUMMARY:Chocolate Making Experience
DESCRIPTION:
URL:https://jjasnack.co.uk/event/chocolate-making-experience-14/
END:VEVENT
BEGIN:VEVENT
DTSTART;TZID=UTC:20250110T093000
DTEND;TZID=UTC:20250110T110000
DTSTAMP:20260423T123331
CREATED:20241210T112501Z
LAST-MODIFIED:20241210T112501Z
UID:2694-1736501400-1736506800@jjasnack.co.uk
SUMMARY:Chocolate Making Experience
DESCRIPTION:
URL:https://jjasnack.co.uk/event/chocolate-making-experience-13/
END:VEVENT
BEGIN:VEVENT
DTSTART;TZID=UTC:20250109T110000
DTEND;TZID=UTC:20250109T123000
DTSTAMP:20260423T123331
CREATED:20241210T112416Z
LAST-MODIFIED:20241210T112416Z
UID:2691-1736420400-1736425800@jjasnack.co.uk
SUMMARY:Chocolate Making Experience
DESCRIPTION:
URL:https://jjasnack.co.uk/event/chocolate-making-experience-12/
END:VEVENT
BEGIN:VEVENT
DTSTART;TZID=UTC:20250109T093000
DTEND;TZID=UTC:20250109T110000
DTSTAMP:20260423T123331
CREATED:20241210T112333Z
LAST-MODIFIED:20241210T112333Z
UID:2688-1736415000-1736420400@jjasnack.co.uk
SUMMARY:Chocolate Making Experience
DESCRIPTION:
URL:https://jjasnack.co.uk/event/chocolate-making-experience-11/
END:VEVENT
BEGIN:VEVENT
DTSTART;TZID=UTC:20250108T110000
DTEND;TZID=UTC:20250108T123000
DTSTAMP:20260423T123331
CREATED:20241210T112231Z
LAST-MODIFIED:20241210T112231Z
UID:2685-1736334000-1736339400@jjasnack.co.uk
SUMMARY:Chocolate Making Experience
DESCRIPTION:
URL:https://jjasnack.co.uk/event/chocolate-making-experience-10/
END:VEVENT
BEGIN:VEVENT
DTSTART;TZID=UTC:20250108T093000
DTEND;TZID=UTC:20250108T110000
DTSTAMP:20260423T123331
CREATED:20241210T112147Z
LAST-MODIFIED:20241210T112147Z
UID:2682-1736328600-1736334000@jjasnack.co.uk
SUMMARY:Chocolate Making Experience
DESCRIPTION:
URL:https://jjasnack.co.uk/event/chocolate-making-experience-9/
END:VEVENT
BEGIN:VEVENT
DTSTART;TZID=UTC:20250105T110000
DTEND;TZID=UTC:20250105T123000
DTSTAMP:20260423T123331
CREATED:20241210T112042Z
LAST-MODIFIED:20241210T112042Z
UID:2679-1736074800-1736080200@jjasnack.co.uk
SUMMARY:Chocolate Making Experience
DESCRIPTION:
URL:https://jjasnack.co.uk/event/chocolate-making-experience-8/
END:VEVENT
BEGIN:VEVENT
DTSTART;TZID=UTC:20250105T093000
DTEND;TZID=UTC:20250105T110000
DTSTAMP:20260423T123331
CREATED:20241210T111956Z
LAST-MODIFIED:20241210T111956Z
UID:2676-1736069400-1736074800@jjasnack.co.uk
SUMMARY:Chocolate Making Experience
DESCRIPTION:
URL:https://jjasnack.co.uk/event/chocolate-making-experience-7/
END:VEVENT
BEGIN:VEVENT
DTSTART;TZID=UTC:20250104T110000
DTEND;TZID=UTC:20250104T123000
DTSTAMP:20260423T123331
CREATED:20241210T111902Z
LAST-MODIFIED:20241210T111902Z
UID:2673-1735988400-1735993800@jjasnack.co.uk
SUMMARY:Chocolate Making Experience
DESCRIPTION:
URL:https://jjasnack.co.uk/event/chocolate-making-experience-6/
END:VEVENT
BEGIN:VEVENT
DTSTART;TZID=UTC:20250104T093000
DTEND;TZID=UTC:20250104T110000
DTSTAMP:20260423T123331
CREATED:20241210T111812Z
LAST-MODIFIED:20241210T111812Z
UID:2670-1735983000-1735988400@jjasnack.co.uk
SUMMARY:Chocolate Making Experience
DESCRIPTION:
URL:https://jjasnack.co.uk/event/chocolate-making-experience-5/
END:VEVENT
BEGIN:VEVENT
DTSTART;TZID=UTC:20250103T110000
DTEND;TZID=UTC:20250103T123000
DTSTAMP:20260423T123331
CREATED:20241210T111556Z
LAST-MODIFIED:20241210T111656Z
UID:2667-1735902000-1735907400@jjasnack.co.uk
SUMMARY:Chocolate Making Experience
DESCRIPTION:
URL:https://jjasnack.co.uk/event/chocolate-making-experience-4/
END:VEVENT
BEGIN:VEVENT
DTSTART;TZID=UTC:20250103T093000
DTEND;TZID=UTC:20250103T110000
DTSTAMP:20260423T123331
CREATED:20241210T111403Z
LAST-MODIFIED:20241210T111403Z
UID:2664-1735896600-1735902000@jjasnack.co.uk
SUMMARY:Chocolate Making Experience
DESCRIPTION:
URL:https://jjasnack.co.uk/event/chocolate-making-experience-3/
END:VEVENT
BEGIN:VEVENT
DTSTART;TZID=UTC:20250102T110000
DTEND;TZID=UTC:20250102T123000
DTSTAMP:20260423T123331
CREATED:20241210T111313Z
LAST-MODIFIED:20241210T111313Z
UID:2661-1735815600-1735821000@jjasnack.co.uk
SUMMARY:Chocolate Making Experience
DESCRIPTION:
URL:https://jjasnack.co.uk/event/chocolate-making-experience-2/
END:VEVENT
BEGIN:VEVENT
DTSTART;TZID=UTC:20250102T093000
DTEND;TZID=UTC:20250102T110000
DTSTAMP:20260423T123331
CREATED:20241210T111212Z
LAST-MODIFIED:20241210T111212Z
UID:2658-1735810200-1735815600@jjasnack.co.uk
SUMMARY:Chocolate Making Experience
DESCRIPTION:
URL:https://jjasnack.co.uk/event/chocolate-making-experience/
END:VEVENT
BEGIN:VEVENT
DTSTART;TZID=UTC:20241229T110000
DTEND;TZID=UTC:20241229T123000
DTSTAMP:20260423T123331
CREATED:20241029T110802Z
LAST-MODIFIED:20241127T154424Z
UID:2121-1735470000-1735475400@jjasnack.co.uk
SUMMARY:Christmas Chocolate Factory Visit
DESCRIPTION:
URL:https://jjasnack.co.uk/event/christmas-chocolate-factory-visit-17/
CATEGORIES:Christmas
END:VEVENT
BEGIN:VEVENT
DTSTART;TZID=UTC:20241229T093000
DTEND;TZID=UTC:20241229T110000
DTSTAMP:20260423T123331
CREATED:20241029T110714Z
LAST-MODIFIED:20241127T154451Z
UID:2118-1735464600-1735470000@jjasnack.co.uk
SUMMARY:Christmas Chocolate Factory Visit
DESCRIPTION:
URL:https://jjasnack.co.uk/event/christmas-chocolate-factory-visit-16/
CATEGORIES:Christmas
END:VEVENT
BEGIN:VEVENT
DTSTART;TZID=UTC:20241228T110000
DTEND;TZID=UTC:20241228T123000
DTSTAMP:20260423T123331
CREATED:20241029T110634Z
LAST-MODIFIED:20241127T154506Z
UID:2115-1735383600-1735389000@jjasnack.co.uk
SUMMARY:Christmas Chocolate Factory Visit
DESCRIPTION:
URL:https://jjasnack.co.uk/event/christmas-chocolate-factory-visit-15/
CATEGORIES:Christmas
END:VEVENT
BEGIN:VEVENT
DTSTART;TZID=UTC:20241228T093000
DTEND;TZID=UTC:20241228T110000
DTSTAMP:20260423T123331
CREATED:20241029T110553Z
LAST-MODIFIED:20241127T154523Z
UID:2112-1735378200-1735383600@jjasnack.co.uk
SUMMARY:Christmas Chocolate Factory Visit
DESCRIPTION:
URL:https://jjasnack.co.uk/event/christmas-chocolate-factory-visit-14/
CATEGORIES:Christmas
END:VEVENT
BEGIN:VEVENT
DTSTART;TZID=UTC:20241227T110000
DTEND;TZID=UTC:20241227T123000
DTSTAMP:20260423T123331
CREATED:20241029T110503Z
LAST-MODIFIED:20241029T110503Z
UID:2109-1735297200-1735302600@jjasnack.co.uk
SUMMARY:Christmas Chocolate Factory Visit
DESCRIPTION:
URL:https://jjasnack.co.uk/event/christmas-chocolate-factory-visit-13/
CATEGORIES:Christmas
END:VEVENT
BEGIN:VEVENT
DTSTART;TZID=UTC:20241227T093000
DTEND;TZID=UTC:20241227T110000
DTSTAMP:20260423T123331
CREATED:20241029T110422Z
LAST-MODIFIED:20241127T154549Z
UID:2106-1735291800-1735297200@jjasnack.co.uk
SUMMARY:Christmas Chocolate Factory Visit
DESCRIPTION:
URL:https://jjasnack.co.uk/event/christmas-chocolate-factory-visit-12/
CATEGORIES:Christmas
END:VEVENT
END:VCALENDAR