BEGIN:VCALENDAR
VERSION:2.0
PRODID:-//JJA Snack - ECPv6.15.20//NONSGML v1.0//EN
CALSCALE:GREGORIAN
METHOD:PUBLISH
X-ORIGINAL-URL:https://jjasnack.co.uk
X-WR-CALDESC:Events for JJA Snack
REFRESH-INTERVAL;VALUE=DURATION:PT1H
X-Robots-Tag:noindex
X-PUBLISHED-TTL:PT1H
BEGIN:VTIMEZONE
TZID:UTC
BEGIN:STANDARD
TZOFFSETFROM:+0000
TZOFFSETTO:+0000
TZNAME:UTC
DTSTART:20240101T000000
END:STANDARD
END:VTIMEZONE
BEGIN:VEVENT
DTSTART;TZID=UTC:20250212T110000
DTEND;TZID=UTC:20250212T123000
DTSTAMP:20260423T075238
CREATED:20241210T121910Z
LAST-MODIFIED:20241210T121910Z
UID:2850-1739358000-1739363400@jjasnack.co.uk
SUMMARY:Chocolate Making Experience
DESCRIPTION:
URL:https://jjasnack.co.uk/event/chocolate-making-experience-60/
END:VEVENT
BEGIN:VEVENT
DTSTART;TZID=UTC:20250212T093000
DTEND;TZID=UTC:20250212T110000
DTSTAMP:20260423T075238
CREATED:20241210T121832Z
LAST-MODIFIED:20241210T121832Z
UID:2847-1739352600-1739358000@jjasnack.co.uk
SUMMARY:Chocolate Making Experience
DESCRIPTION:
URL:https://jjasnack.co.uk/event/chocolate-making-experience-59/
END:VEVENT
BEGIN:VEVENT
DTSTART;TZID=UTC:20250209T110000
DTEND;TZID=UTC:20250209T123000
DTSTAMP:20260423T075238
CREATED:20241210T121750Z
LAST-MODIFIED:20241210T121750Z
UID:2839-1739098800-1739104200@jjasnack.co.uk
SUMMARY:Chocolate Making Experience
DESCRIPTION:
URL:https://jjasnack.co.uk/event/chocolate-making-experience-58/
END:VEVENT
BEGIN:VEVENT
DTSTART;TZID=UTC:20250209T093000
DTEND;TZID=UTC:20250209T110000
DTSTAMP:20260423T075238
CREATED:20241210T121408Z
LAST-MODIFIED:20241210T121632Z
UID:2820-1739093400-1739098800@jjasnack.co.uk
SUMMARY:Chocolate Making Experience
DESCRIPTION:
URL:https://jjasnack.co.uk/event/chocolate-making-experience-55/
END:VEVENT
BEGIN:VEVENT
DTSTART;TZID=UTC:20250208T110000
DTEND;TZID=UTC:20250208T123000
DTSTAMP:20260423T075238
CREATED:20241210T121459Z
LAST-MODIFIED:20241210T121459Z
UID:2823-1739012400-1739017800@jjasnack.co.uk
SUMMARY:Chocolate Making Experience
DESCRIPTION:
URL:https://jjasnack.co.uk/event/chocolate-making-experience-56/
END:VEVENT
BEGIN:VEVENT
DTSTART;TZID=UTC:20250208T093000
DTEND;TZID=UTC:20250208T110000
DTSTAMP:20260423T075238
CREATED:20241210T121546Z
LAST-MODIFIED:20241210T121703Z
UID:2827-1739007000-1739012400@jjasnack.co.uk
SUMMARY:Chocolate Making Experience
DESCRIPTION:
URL:https://jjasnack.co.uk/event/chocolate-making-experience-57/
END:VEVENT
BEGIN:VEVENT
DTSTART;TZID=UTC:20250207T110000
DTEND;TZID=UTC:20250207T123000
DTSTAMP:20260423T075238
CREATED:20241210T121300Z
LAST-MODIFIED:20241210T121300Z
UID:2817-1738926000-1738931400@jjasnack.co.uk
SUMMARY:Chocolate Making Experience
DESCRIPTION:
URL:https://jjasnack.co.uk/event/chocolate-making-experience-54/
END:VEVENT
BEGIN:VEVENT
DTSTART;TZID=UTC:20250207T093000
DTEND;TZID=UTC:20250207T110000
DTSTAMP:20260423T075238
CREATED:20241210T121220Z
LAST-MODIFIED:20241210T121321Z
UID:2814-1738920600-1738926000@jjasnack.co.uk
SUMMARY:Chocolate Making Experience
DESCRIPTION:
URL:https://jjasnack.co.uk/event/chocolate-making-experience-53/
END:VEVENT
BEGIN:VEVENT
DTSTART;TZID=UTC:20250206T110000
DTEND;TZID=UTC:20250206T123000
DTSTAMP:20260423T075238
CREATED:20241210T121121Z
LAST-MODIFIED:20241210T121121Z
UID:2811-1738839600-1738845000@jjasnack.co.uk
SUMMARY:Chocolate Making Experience
DESCRIPTION:
URL:https://jjasnack.co.uk/event/chocolate-making-experience-52/
END:VEVENT
BEGIN:VEVENT
DTSTART;TZID=UTC:20250206T093000
DTEND;TZID=UTC:20250206T110000
DTSTAMP:20260423T075238
CREATED:20241210T121025Z
LAST-MODIFIED:20241210T121025Z
UID:2808-1738834200-1738839600@jjasnack.co.uk
SUMMARY:Chocolate Making Experience
DESCRIPTION:
URL:https://jjasnack.co.uk/event/chocolate-making-experience-51/
END:VEVENT
BEGIN:VEVENT
DTSTART;TZID=UTC:20250205T110000
DTEND;TZID=UTC:20250205T123000
DTSTAMP:20260423T075238
CREATED:20241210T120937Z
LAST-MODIFIED:20241210T120937Z
UID:2805-1738753200-1738758600@jjasnack.co.uk
SUMMARY:Chocolate Making Experience
DESCRIPTION:
URL:https://jjasnack.co.uk/event/chocolate-making-experience-50/
END:VEVENT
BEGIN:VEVENT
DTSTART;TZID=UTC:20250205T093000
DTEND;TZID=UTC:20250205T110000
DTSTAMP:20260423T075238
CREATED:20241210T120901Z
LAST-MODIFIED:20241210T120901Z
UID:2802-1738747800-1738753200@jjasnack.co.uk
SUMMARY:Chocolate Making Experience
DESCRIPTION:
URL:https://jjasnack.co.uk/event/chocolate-making-experience-49/
END:VEVENT
BEGIN:VEVENT
DTSTART;TZID=UTC:20250202T110000
DTEND;TZID=UTC:20250202T123000
DTSTAMP:20260423T075238
CREATED:20241210T120806Z
LAST-MODIFIED:20241210T120806Z
UID:2799-1738494000-1738499400@jjasnack.co.uk
SUMMARY:Chocolate Making Experience
DESCRIPTION:
URL:https://jjasnack.co.uk/event/chocolate-making-experience-48/
END:VEVENT
BEGIN:VEVENT
DTSTART;TZID=UTC:20250202T093000
DTEND;TZID=UTC:20250202T110000
DTSTAMP:20260423T075238
CREATED:20241210T120725Z
LAST-MODIFIED:20241210T120725Z
UID:2796-1738488600-1738494000@jjasnack.co.uk
SUMMARY:Chocolate Making Experience
DESCRIPTION:
URL:https://jjasnack.co.uk/event/chocolate-making-experience-47/
END:VEVENT
BEGIN:VEVENT
DTSTART;TZID=UTC:20250201T110000
DTEND;TZID=UTC:20250201T123000
DTSTAMP:20260423T075238
CREATED:20241210T120646Z
LAST-MODIFIED:20241210T120646Z
UID:2793-1738407600-1738413000@jjasnack.co.uk
SUMMARY:Chocolate Making Experience
DESCRIPTION:
URL:https://jjasnack.co.uk/event/chocolate-making-experience-46/
END:VEVENT
BEGIN:VEVENT
DTSTART;TZID=UTC:20250201T093000
DTEND;TZID=UTC:20250201T110000
DTSTAMP:20260423T075238
CREATED:20241210T120601Z
LAST-MODIFIED:20241210T120601Z
UID:2790-1738402200-1738407600@jjasnack.co.uk
SUMMARY:Chocolate Making Experience
DESCRIPTION:
URL:https://jjasnack.co.uk/event/chocolate-making-experience-45/
END:VEVENT
BEGIN:VEVENT
DTSTART;TZID=UTC:20250131T110000
DTEND;TZID=UTC:20250131T123000
DTSTAMP:20260423T075238
CREATED:20241210T114845Z
LAST-MODIFIED:20241210T114845Z
UID:2787-1738321200-1738326600@jjasnack.co.uk
SUMMARY:Chocolate Making Experience
DESCRIPTION:
URL:https://jjasnack.co.uk/event/chocolate-making-experience-44/
END:VEVENT
BEGIN:VEVENT
DTSTART;TZID=UTC:20250131T093000
DTEND;TZID=UTC:20250131T110000
DTSTAMP:20260423T075238
CREATED:20241210T114759Z
LAST-MODIFIED:20241210T114759Z
UID:2784-1738315800-1738321200@jjasnack.co.uk
SUMMARY:Chocolate Making Experience
DESCRIPTION:
URL:https://jjasnack.co.uk/event/chocolate-making-experience-43/
END:VEVENT
BEGIN:VEVENT
DTSTART;TZID=UTC:20250130T110000
DTEND;TZID=UTC:20250130T123000
DTSTAMP:20260423T075238
CREATED:20241210T114719Z
LAST-MODIFIED:20241210T114719Z
UID:2781-1738234800-1738240200@jjasnack.co.uk
SUMMARY:Chocolate Making Experience
DESCRIPTION:
URL:https://jjasnack.co.uk/event/chocolate-making-experience-42/
END:VEVENT
BEGIN:VEVENT
DTSTART;TZID=UTC:20250130T093000
DTEND;TZID=UTC:20250130T110000
DTSTAMP:20260423T075238
CREATED:20241210T114638Z
LAST-MODIFIED:20241210T114638Z
UID:2778-1738229400-1738234800@jjasnack.co.uk
SUMMARY:Chocolate Making Experience
DESCRIPTION:
URL:https://jjasnack.co.uk/event/chocolate-making-experience-41/
END:VEVENT
BEGIN:VEVENT
DTSTART;TZID=UTC:20250129T110000
DTEND;TZID=UTC:20250129T123000
DTSTAMP:20260423T075238
CREATED:20241210T114553Z
LAST-MODIFIED:20241210T114553Z
UID:2775-1738148400-1738153800@jjasnack.co.uk
SUMMARY:Chocolate Making Experience
DESCRIPTION:
URL:https://jjasnack.co.uk/event/chocolate-making-experience-40/
END:VEVENT
BEGIN:VEVENT
DTSTART;TZID=UTC:20250129T093000
DTEND;TZID=UTC:20250129T110000
DTSTAMP:20260423T075238
CREATED:20241210T114509Z
LAST-MODIFIED:20241210T114509Z
UID:2772-1738143000-1738148400@jjasnack.co.uk
SUMMARY:Chocolate Making Experience
DESCRIPTION:
URL:https://jjasnack.co.uk/event/chocolate-making-experience-39/
END:VEVENT
BEGIN:VEVENT
DTSTART;TZID=UTC:20250126T110000
DTEND;TZID=UTC:20250126T123000
DTSTAMP:20260423T075238
CREATED:20241210T114418Z
LAST-MODIFIED:20241210T114418Z
UID:2769-1737889200-1737894600@jjasnack.co.uk
SUMMARY:Chocolate Making Experience
DESCRIPTION:
URL:https://jjasnack.co.uk/event/chocolate-making-experience-38/
END:VEVENT
BEGIN:VEVENT
DTSTART;TZID=UTC:20250126T093000
DTEND;TZID=UTC:20250126T110000
DTSTAMP:20260423T075238
CREATED:20241210T114334Z
LAST-MODIFIED:20241210T114334Z
UID:2766-1737883800-1737889200@jjasnack.co.uk
SUMMARY:Chocolate Making Experience
DESCRIPTION:
URL:https://jjasnack.co.uk/event/chocolate-making-experience-37/
END:VEVENT
BEGIN:VEVENT
DTSTART;TZID=UTC:20250125T110000
DTEND;TZID=UTC:20250125T123000
DTSTAMP:20260423T075238
CREATED:20241210T114251Z
LAST-MODIFIED:20241210T114251Z
UID:2763-1737802800-1737808200@jjasnack.co.uk
SUMMARY:Chocolate Making Experience
DESCRIPTION:
URL:https://jjasnack.co.uk/event/chocolate-making-experience-36/
END:VEVENT
BEGIN:VEVENT
DTSTART;TZID=UTC:20250125T093000
DTEND;TZID=UTC:20250125T110000
DTSTAMP:20260423T075238
CREATED:20241210T114211Z
LAST-MODIFIED:20241210T114211Z
UID:2760-1737797400-1737802800@jjasnack.co.uk
SUMMARY:Chocolate Making Experience
DESCRIPTION:
URL:https://jjasnack.co.uk/event/chocolate-making-experience-35/
END:VEVENT
BEGIN:VEVENT
DTSTART;TZID=UTC:20250124T110000
DTEND;TZID=UTC:20250124T123000
DTSTAMP:20260423T075238
CREATED:20241210T114126Z
LAST-MODIFIED:20241210T114126Z
UID:2757-1737716400-1737721800@jjasnack.co.uk
SUMMARY:Chocolate Making Experience
DESCRIPTION:
URL:https://jjasnack.co.uk/event/chocolate-making-experience-34/
END:VEVENT
BEGIN:VEVENT
DTSTART;TZID=UTC:20250124T093000
DTEND;TZID=UTC:20250124T110000
DTSTAMP:20260423T075238
CREATED:20241210T114045Z
LAST-MODIFIED:20241210T114045Z
UID:2754-1737711000-1737716400@jjasnack.co.uk
SUMMARY:Chocolate Making Experience
DESCRIPTION:
URL:https://jjasnack.co.uk/event/chocolate-making-experience-33/
END:VEVENT
BEGIN:VEVENT
DTSTART;TZID=UTC:20250123T110000
DTEND;TZID=UTC:20250123T123000
DTSTAMP:20260423T075238
CREATED:20241210T113957Z
LAST-MODIFIED:20241210T113957Z
UID:2751-1737630000-1737635400@jjasnack.co.uk
SUMMARY:Chocolate Making Experience
DESCRIPTION:
URL:https://jjasnack.co.uk/event/chocolate-making-experience-32/
END:VEVENT
BEGIN:VEVENT
DTSTART;TZID=UTC:20250123T093000
DTEND;TZID=UTC:20250123T110000
DTSTAMP:20260423T075238
CREATED:20241210T113915Z
LAST-MODIFIED:20241210T113915Z
UID:2748-1737624600-1737630000@jjasnack.co.uk
SUMMARY:Chocolate Making Experience
DESCRIPTION:
URL:https://jjasnack.co.uk/event/chocolate-making-experience-31/
END:VEVENT
END:VCALENDAR