BEGIN:VCALENDAR
VERSION:2.0
PRODID:-//JJA Snack - ECPv6.15.20//NONSGML v1.0//EN
CALSCALE:GREGORIAN
METHOD:PUBLISH
X-WR-CALNAME:JJA Snack
X-ORIGINAL-URL:https://jjasnack.co.uk
X-WR-CALDESC:Events for JJA Snack
REFRESH-INTERVAL;VALUE=DURATION:PT1H
X-Robots-Tag:noindex
X-PUBLISHED-TTL:PT1H
BEGIN:VTIMEZONE
TZID:UTC
BEGIN:STANDARD
TZOFFSETFROM:+0000
TZOFFSETTO:+0000
TZNAME:UTC
DTSTART:20230101T000000
END:STANDARD
END:VTIMEZONE
BEGIN:VEVENT
DTSTART;TZID=UTC:20240814T110000
DTEND;TZID=UTC:20240814T123000
DTSTAMP:20260424T144352
CREATED:20240724T101005Z
LAST-MODIFIED:20240724T101005Z
UID:1182-1723633200-1723638600@jjasnack.co.uk
SUMMARY:Chocolate Experience
DESCRIPTION:
URL:https://jjasnack.co.uk/event/chocolate-experience-57/
END:VEVENT
BEGIN:VEVENT
DTSTART;TZID=UTC:20240814T093000
DTEND;TZID=UTC:20240814T110000
DTSTAMP:20260424T144352
CREATED:20240724T100728Z
LAST-MODIFIED:20240724T100728Z
UID:1179-1723627800-1723633200@jjasnack.co.uk
SUMMARY:Chocolate Experience
DESCRIPTION:
URL:https://jjasnack.co.uk/event/chocolate-experience-56/
END:VEVENT
BEGIN:VEVENT
DTSTART;TZID=UTC:20240811T110000
DTEND;TZID=UTC:20240811T123000
DTSTAMP:20260424T144352
CREATED:20240724T100411Z
LAST-MODIFIED:20240724T100411Z
UID:1176-1723374000-1723379400@jjasnack.co.uk
SUMMARY:Chocolate Experience
DESCRIPTION:
URL:https://jjasnack.co.uk/event/chocolate-experience-55/
END:VEVENT
BEGIN:VEVENT
DTSTART;TZID=UTC:20240811T093000
DTEND;TZID=UTC:20240811T110000
DTSTAMP:20260424T144352
CREATED:20240724T100309Z
LAST-MODIFIED:20240724T100309Z
UID:1173-1723368600-1723374000@jjasnack.co.uk
SUMMARY:Chocolate Experience
DESCRIPTION:
URL:https://jjasnack.co.uk/event/chocolate-experience-54/
END:VEVENT
BEGIN:VEVENT
DTSTART;TZID=UTC:20240810T110000
DTEND;TZID=UTC:20240810T123000
DTSTAMP:20260424T144352
CREATED:20240724T100214Z
LAST-MODIFIED:20240724T100214Z
UID:1170-1723287600-1723293000@jjasnack.co.uk
SUMMARY:Chocolate Experience
DESCRIPTION:
URL:https://jjasnack.co.uk/event/chocolate-experience-53/
END:VEVENT
BEGIN:VEVENT
DTSTART;TZID=UTC:20240810T093000
DTEND;TZID=UTC:20240810T110000
DTSTAMP:20260424T144352
CREATED:20240724T100107Z
LAST-MODIFIED:20240724T100107Z
UID:1167-1723282200-1723287600@jjasnack.co.uk
SUMMARY:Chocolate Experience
DESCRIPTION:
URL:https://jjasnack.co.uk/event/chocolate-experience-52/
END:VEVENT
BEGIN:VEVENT
DTSTART;TZID=UTC:20240809T103000
DTEND;TZID=UTC:20240809T120000
DTSTAMP:20260424T144352
CREATED:20240704T111225Z
LAST-MODIFIED:20240704T111225Z
UID:1047-1723199400-1723204800@jjasnack.co.uk
SUMMARY:Chocolate Experience
DESCRIPTION:
URL:https://jjasnack.co.uk/event/chocolate-experience-27/
END:VEVENT
BEGIN:VEVENT
DTSTART;TZID=UTC:20240809T090000
DTEND;TZID=UTC:20240809T103000
DTSTAMP:20260424T144352
CREATED:20240719T074350Z
LAST-MODIFIED:20240719T074350Z
UID:1101-1723194000-1723199400@jjasnack.co.uk
SUMMARY:Chocolate Experience
DESCRIPTION:
URL:https://jjasnack.co.uk/event/chocolate-experience-38/
END:VEVENT
BEGIN:VEVENT
DTSTART;TZID=UTC:20240808T110000
DTEND;TZID=UTC:20240808T123000
DTSTAMP:20260424T144352
CREATED:20240724T100002Z
LAST-MODIFIED:20240724T100002Z
UID:1164-1723114800-1723120200@jjasnack.co.uk
SUMMARY:Chocolate Experience
DESCRIPTION:
URL:https://jjasnack.co.uk/event/chocolate-experience-51/
END:VEVENT
BEGIN:VEVENT
DTSTART;TZID=UTC:20240808T093000
DTEND;TZID=UTC:20240808T110000
DTSTAMP:20260424T144352
CREATED:20240724T095852Z
LAST-MODIFIED:20240724T095852Z
UID:1161-1723109400-1723114800@jjasnack.co.uk
SUMMARY:Chocolate Experience
DESCRIPTION:
URL:https://jjasnack.co.uk/event/chocolate-experience-50/
END:VEVENT
BEGIN:VEVENT
DTSTART;TZID=UTC:20240807T093000
DTEND;TZID=UTC:20240807T110000
DTSTAMP:20260424T144352
CREATED:20240704T111931Z
LAST-MODIFIED:20240724T092915Z
UID:1050-1723023000-1723028400@jjasnack.co.uk
SUMMARY:Chocolate Experience
DESCRIPTION:
URL:https://jjasnack.co.uk/event/chocolate-experience-28/
END:VEVENT
BEGIN:VEVENT
DTSTART;TZID=UTC:20240804T110000
DTEND;TZID=UTC:20240804T123000
DTSTAMP:20260424T144352
CREATED:20240724T095721Z
LAST-MODIFIED:20240724T095721Z
UID:1158-1722769200-1722774600@jjasnack.co.uk
SUMMARY:Chocolate Experience
DESCRIPTION:
URL:https://jjasnack.co.uk/event/chocolate-experience-49/
END:VEVENT
BEGIN:VEVENT
DTSTART;TZID=UTC:20240804T093000
DTEND;TZID=UTC:20240804T110000
DTSTAMP:20260424T144352
CREATED:20240724T095623Z
LAST-MODIFIED:20240724T095623Z
UID:1155-1722763800-1722769200@jjasnack.co.uk
SUMMARY:Chocolate Experience
DESCRIPTION:
URL:https://jjasnack.co.uk/event/chocolate-experience-48/
END:VEVENT
BEGIN:VEVENT
DTSTART;TZID=UTC:20240803T110000
DTEND;TZID=UTC:20240803T123000
DTSTAMP:20260424T144352
CREATED:20240724T095519Z
LAST-MODIFIED:20240724T095519Z
UID:1152-1722682800-1722688200@jjasnack.co.uk
SUMMARY:Chocolate Experience
DESCRIPTION:
URL:https://jjasnack.co.uk/event/chocolate-experience-47/
END:VEVENT
BEGIN:VEVENT
DTSTART;TZID=UTC:20240803T093000
DTEND;TZID=UTC:20240803T110000
DTSTAMP:20260424T144352
CREATED:20240724T095423Z
LAST-MODIFIED:20240724T095423Z
UID:1149-1722677400-1722682800@jjasnack.co.uk
SUMMARY:Chocolate Experience
DESCRIPTION:
URL:https://jjasnack.co.uk/event/chocolate-experience-46/
END:VEVENT
BEGIN:VEVENT
DTSTART;TZID=UTC:20240802T110000
DTEND;TZID=UTC:20240802T123000
DTSTAMP:20260424T144352
CREATED:20240724T095256Z
LAST-MODIFIED:20240724T095256Z
UID:1146-1722596400-1722601800@jjasnack.co.uk
SUMMARY:Chocolate Experience
DESCRIPTION:
URL:https://jjasnack.co.uk/event/chocolate-experience-45/
END:VEVENT
BEGIN:VEVENT
DTSTART;TZID=UTC:20240802T093000
DTEND;TZID=UTC:20240802T110000
DTSTAMP:20260424T144352
CREATED:20240724T095006Z
LAST-MODIFIED:20240724T095153Z
UID:1143-1722591000-1722596400@jjasnack.co.uk
SUMMARY:Chocolate Experience
DESCRIPTION:
URL:https://jjasnack.co.uk/event/chocolate-experience-44/
END:VEVENT
BEGIN:VEVENT
DTSTART;TZID=UTC:20240801T110000
DTEND;TZID=UTC:20240801T123000
DTSTAMP:20260424T144352
CREATED:20240724T104050Z
LAST-MODIFIED:20240724T104050Z
UID:1269-1722510000-1722515400@jjasnack.co.uk
SUMMARY:Chocolate Experience
DESCRIPTION:
URL:https://jjasnack.co.uk/event/chocolate-experience-86/
END:VEVENT
BEGIN:VEVENT
DTSTART;TZID=UTC:20240801T093000
DTEND;TZID=UTC:20240801T110000
DTSTAMP:20260424T144352
CREATED:20240724T094857Z
LAST-MODIFIED:20240724T094857Z
UID:1140-1722504600-1722510000@jjasnack.co.uk
SUMMARY:Chocolate Experience
DESCRIPTION:
URL:https://jjasnack.co.uk/event/chocolate-experience-43/
END:VEVENT
BEGIN:VEVENT
DTSTART;TZID=UTC:20240731T110000
DTEND;TZID=UTC:20240731T123000
DTSTAMP:20260424T144352
CREATED:20240724T093949Z
LAST-MODIFIED:20240724T093949Z
UID:1137-1722423600-1722429000@jjasnack.co.uk
SUMMARY:Chocolate Experience
DESCRIPTION:
URL:https://jjasnack.co.uk/event/chocolate-experience-42/
END:VEVENT
BEGIN:VEVENT
DTSTART;TZID=UTC:20240731T093000
DTEND;TZID=UTC:20240731T110000
DTSTAMP:20260424T144352
CREATED:20240724T093855Z
LAST-MODIFIED:20240724T093855Z
UID:1134-1722418200-1722423600@jjasnack.co.uk
SUMMARY:Chocolate Experience
DESCRIPTION:
URL:https://jjasnack.co.uk/event/chocolate-experience-41/
END:VEVENT
BEGIN:VEVENT
DTSTART;TZID=UTC:20240728T110000
DTEND;TZID=UTC:20240728T123000
DTSTAMP:20260424T144352
CREATED:20240724T093715Z
LAST-MODIFIED:20240724T093715Z
UID:1131-1722164400-1722169800@jjasnack.co.uk
SUMMARY:Chocolate Experience
DESCRIPTION:
URL:https://jjasnack.co.uk/event/chocolate-experience-40/
END:VEVENT
BEGIN:VEVENT
DTSTART;TZID=UTC:20240728T093000
DTEND;TZID=UTC:20240728T110000
DTSTAMP:20260424T144352
CREATED:20240724T093608Z
LAST-MODIFIED:20240724T093608Z
UID:1128-1722159000-1722164400@jjasnack.co.uk
SUMMARY:Chocolate Experience
DESCRIPTION:
URL:https://jjasnack.co.uk/event/chocolate-experience-39/
END:VEVENT
BEGIN:VEVENT
DTSTART;TZID=UTC:20240727T110000
DTEND;TZID=UTC:20240727T123000
DTSTAMP:20260424T144352
CREATED:20240724T093503Z
LAST-MODIFIED:20240724T093503Z
UID:1125-1722078000-1722083400@jjasnack.co.uk
SUMMARY:Chocolate Experience
DESCRIPTION:
URL:https://jjasnack.co.uk/event/chocolate-experience-33/
END:VEVENT
BEGIN:VEVENT
DTSTART;TZID=UTC:20240727T093000
DTEND;TZID=UTC:20240727T110000
DTSTAMP:20260424T144352
CREATED:20240724T093400Z
LAST-MODIFIED:20240724T093400Z
UID:1122-1722072600-1722078000@jjasnack.co.uk
SUMMARY:Chocolate Experience
DESCRIPTION:
URL:https://jjasnack.co.uk/event/chocolate-experience-31/
END:VEVENT
BEGIN:VEVENT
DTSTART;TZID=UTC:20240726T110000
DTEND;TZID=UTC:20240726T123000
DTSTAMP:20260424T144352
CREATED:20240724T092713Z
LAST-MODIFIED:20240724T092713Z
UID:1116-1721991600-1721997000@jjasnack.co.uk
SUMMARY:Chocolate Experience
DESCRIPTION:
URL:https://jjasnack.co.uk/event/chocolate-experience-32/
END:VEVENT
BEGIN:VEVENT
DTSTART;TZID=UTC:20240726T093000
DTEND;TZID=UTC:20240726T110000
DTSTAMP:20260424T144352
CREATED:20240724T093225Z
LAST-MODIFIED:20240724T093225Z
UID:1119-1721986200-1721991600@jjasnack.co.uk
SUMMARY:Chocolate Experience
DESCRIPTION:
URL:https://jjasnack.co.uk/event/chocolate-experience-26/
END:VEVENT
BEGIN:VEVENT
DTSTART;TZID=UTC:20240725T110000
DTEND;TZID=UTC:20240725T123000
DTSTAMP:20260424T144352
CREATED:20240724T092419Z
LAST-MODIFIED:20240724T092419Z
UID:1110-1721905200-1721910600@jjasnack.co.uk
SUMMARY:Chocolate Experience
DESCRIPTION:
URL:https://jjasnack.co.uk/event/chocolate-experience-30/
END:VEVENT
BEGIN:VEVENT
DTSTART;TZID=UTC:20240725T093000
DTEND;TZID=UTC:20240725T110000
DTSTAMP:20260424T144352
CREATED:20240724T092137Z
LAST-MODIFIED:20240724T092137Z
UID:1106-1721899800-1721905200@jjasnack.co.uk
SUMMARY:Chocolate Experience
DESCRIPTION:
URL:https://jjasnack.co.uk/event/chocolate-experience-29/
END:VEVENT
BEGIN:VEVENT
DTSTART;TZID=UTC:20240712T173000
DTEND;TZID=UTC:20240712T193000
DTSTAMP:20260424T144352
CREATED:20240619T101332Z
LAST-MODIFIED:20240619T101332Z
UID:1028-1720805400-1720812600@jjasnack.co.uk
SUMMARY:Chocolate Experience
DESCRIPTION:
URL:https://jjasnack.co.uk/event/chocolate-experience-25/
END:VEVENT
END:VCALENDAR