BEGIN:VCALENDAR
VERSION:2.0
PRODID:-//JJA Snack - ECPv6.15.20//NONSGML v1.0//EN
CALSCALE:GREGORIAN
METHOD:PUBLISH
X-WR-CALNAME:JJA Snack
X-ORIGINAL-URL:https://jjasnack.co.uk
X-WR-CALDESC:Events for JJA Snack
REFRESH-INTERVAL;VALUE=DURATION:PT1H
X-Robots-Tag:noindex
X-PUBLISHED-TTL:PT1H
BEGIN:VTIMEZONE
TZID:UTC
BEGIN:STANDARD
TZOFFSETFROM:+0000
TZOFFSETTO:+0000
TZNAME:UTC
DTSTART:20230101T000000
END:STANDARD
END:VTIMEZONE
BEGIN:VEVENT
DTSTART;TZID=UTC:20240831T110000
DTEND;TZID=UTC:20240831T123000
DTSTAMP:20260424T113246
CREATED:20240724T103523Z
LAST-MODIFIED:20240724T103523Z
UID:1260-1725102000-1725107400@jjasnack.co.uk
SUMMARY:Chocolate Experience
DESCRIPTION:
URL:https://jjasnack.co.uk/event/chocolate-experience-83/
END:VEVENT
BEGIN:VEVENT
DTSTART;TZID=UTC:20240831T093000
DTEND;TZID=UTC:20240831T110000
DTSTAMP:20260424T113246
CREATED:20240724T103433Z
LAST-MODIFIED:20240724T103433Z
UID:1257-1725096600-1725102000@jjasnack.co.uk
SUMMARY:Chocolate Experience
DESCRIPTION:
URL:https://jjasnack.co.uk/event/chocolate-experience-82/
END:VEVENT
BEGIN:VEVENT
DTSTART;TZID=UTC:20240830T110000
DTEND;TZID=UTC:20240830T123000
DTSTAMP:20260424T113246
CREATED:20240724T103347Z
LAST-MODIFIED:20240724T103347Z
UID:1254-1725015600-1725021000@jjasnack.co.uk
SUMMARY:Chocolate Experience
DESCRIPTION:
URL:https://jjasnack.co.uk/event/chocolate-experience-81/
END:VEVENT
BEGIN:VEVENT
DTSTART;TZID=UTC:20240830T093000
DTEND;TZID=UTC:20240830T110000
DTSTAMP:20260424T113246
CREATED:20240724T103247Z
LAST-MODIFIED:20240724T103247Z
UID:1251-1725010200-1725015600@jjasnack.co.uk
SUMMARY:Chocolate Experience
DESCRIPTION:
URL:https://jjasnack.co.uk/event/chocolate-experience-80/
END:VEVENT
BEGIN:VEVENT
DTSTART;TZID=UTC:20240829T110000
DTEND;TZID=UTC:20240829T123000
DTSTAMP:20260424T113246
CREATED:20240724T103155Z
LAST-MODIFIED:20240724T103155Z
UID:1248-1724929200-1724934600@jjasnack.co.uk
SUMMARY:Chocolate Experience
DESCRIPTION:
URL:https://jjasnack.co.uk/event/chocolate-experience-79/
END:VEVENT
BEGIN:VEVENT
DTSTART;TZID=UTC:20240829T093000
DTEND;TZID=UTC:20240829T110000
DTSTAMP:20260424T113246
CREATED:20240724T103100Z
LAST-MODIFIED:20240724T103100Z
UID:1245-1724923800-1724929200@jjasnack.co.uk
SUMMARY:Chocolate Experience
DESCRIPTION:
URL:https://jjasnack.co.uk/event/chocolate-experience-78/
END:VEVENT
BEGIN:VEVENT
DTSTART;TZID=UTC:20240828T110000
DTEND;TZID=UTC:20240828T123000
DTSTAMP:20260424T113246
CREATED:20240724T102938Z
LAST-MODIFIED:20240724T102938Z
UID:1242-1724842800-1724848200@jjasnack.co.uk
SUMMARY:Chocolate Experience
DESCRIPTION:
URL:https://jjasnack.co.uk/event/chocolate-experience-77/
END:VEVENT
BEGIN:VEVENT
DTSTART;TZID=UTC:20240828T093000
DTEND;TZID=UTC:20240828T110000
DTSTAMP:20260424T113246
CREATED:20240724T102826Z
LAST-MODIFIED:20240724T102826Z
UID:1239-1724837400-1724842800@jjasnack.co.uk
SUMMARY:Chocolate Experience
DESCRIPTION:
URL:https://jjasnack.co.uk/event/chocolate-experience-76/
END:VEVENT
BEGIN:VEVENT
DTSTART;TZID=UTC:20240825T110000
DTEND;TZID=UTC:20240825T123000
DTSTAMP:20260424T113246
CREATED:20240724T102739Z
LAST-MODIFIED:20240724T102739Z
UID:1236-1724583600-1724589000@jjasnack.co.uk
SUMMARY:Chocolate Experience
DESCRIPTION:
URL:https://jjasnack.co.uk/event/chocolate-experience-75/
END:VEVENT
BEGIN:VEVENT
DTSTART;TZID=UTC:20240825T093000
DTEND;TZID=UTC:20240825T110000
DTSTAMP:20260424T113246
CREATED:20240724T102649Z
LAST-MODIFIED:20240724T102649Z
UID:1233-1724578200-1724583600@jjasnack.co.uk
SUMMARY:Chocolate Experience
DESCRIPTION:
URL:https://jjasnack.co.uk/event/chocolate-experience-74/
END:VEVENT
BEGIN:VEVENT
DTSTART;TZID=UTC:20240824T110000
DTEND;TZID=UTC:20240824T123000
DTSTAMP:20260424T113246
CREATED:20240724T102525Z
LAST-MODIFIED:20240724T102525Z
UID:1230-1724497200-1724502600@jjasnack.co.uk
SUMMARY:Chocolate Experience
DESCRIPTION:
URL:https://jjasnack.co.uk/event/chocolate-experience-73/
END:VEVENT
BEGIN:VEVENT
DTSTART;TZID=UTC:20240824T093000
DTEND;TZID=UTC:20240824T110000
DTSTAMP:20260424T113246
CREATED:20240724T102425Z
LAST-MODIFIED:20240724T102425Z
UID:1227-1724491800-1724497200@jjasnack.co.uk
SUMMARY:Chocolate Experience
DESCRIPTION:
URL:https://jjasnack.co.uk/event/chocolate-experience-72/
END:VEVENT
BEGIN:VEVENT
DTSTART;TZID=UTC:20240823T110000
DTEND;TZID=UTC:20240823T123000
DTSTAMP:20260424T113246
CREATED:20240724T102333Z
LAST-MODIFIED:20240724T102333Z
UID:1224-1724410800-1724416200@jjasnack.co.uk
SUMMARY:Chocolate Experience
DESCRIPTION:
URL:https://jjasnack.co.uk/event/chocolate-experience-71/
END:VEVENT
BEGIN:VEVENT
DTSTART;TZID=UTC:20240823T093000
DTEND;TZID=UTC:20240823T110000
DTSTAMP:20260424T113246
CREATED:20240724T102242Z
LAST-MODIFIED:20240724T102242Z
UID:1221-1724405400-1724410800@jjasnack.co.uk
SUMMARY:Chocolate Experience
DESCRIPTION:
URL:https://jjasnack.co.uk/event/chocolate-experience-70/
END:VEVENT
BEGIN:VEVENT
DTSTART;TZID=UTC:20240821T110000
DTEND;TZID=UTC:20240821T123000
DTSTAMP:20260424T113246
CREATED:20240724T101943Z
LAST-MODIFIED:20240724T101943Z
UID:1212-1724238000-1724243400@jjasnack.co.uk
SUMMARY:Chocolate Experience
DESCRIPTION:
URL:https://jjasnack.co.uk/event/chocolate-experience-67/
END:VEVENT
BEGIN:VEVENT
DTSTART;TZID=UTC:20240821T093000
DTEND;TZID=UTC:20240821T110000
DTSTAMP:20260424T113246
CREATED:20240724T101846Z
LAST-MODIFIED:20240724T101846Z
UID:1209-1724232600-1724238000@jjasnack.co.uk
SUMMARY:Chocolate Experience
DESCRIPTION:
URL:https://jjasnack.co.uk/event/chocolate-experience-66/
END:VEVENT
BEGIN:VEVENT
DTSTART;TZID=UTC:20240818T110000
DTEND;TZID=UTC:20240818T123000
DTSTAMP:20260424T113246
CREATED:20240724T101728Z
LAST-MODIFIED:20240724T101728Z
UID:1206-1723978800-1723984200@jjasnack.co.uk
SUMMARY:Chocolate Experience
DESCRIPTION:
URL:https://jjasnack.co.uk/event/chocolate-experience-65/
END:VEVENT
BEGIN:VEVENT
DTSTART;TZID=UTC:20240818T093000
DTEND;TZID=UTC:20240818T110000
DTSTAMP:20260424T113246
CREATED:20240724T101631Z
LAST-MODIFIED:20240724T101631Z
UID:1203-1723973400-1723978800@jjasnack.co.uk
SUMMARY:Chocolate Experience
DESCRIPTION:
URL:https://jjasnack.co.uk/event/chocolate-experience-64/
END:VEVENT
BEGIN:VEVENT
DTSTART;TZID=UTC:20240817T110000
DTEND;TZID=UTC:20240817T123000
DTSTAMP:20260424T113246
CREATED:20240724T101525Z
LAST-MODIFIED:20240724T101525Z
UID:1200-1723892400-1723897800@jjasnack.co.uk
SUMMARY:Chocolate Experience
DESCRIPTION:
URL:https://jjasnack.co.uk/event/chocolate-experience-63/
END:VEVENT
BEGIN:VEVENT
DTSTART;TZID=UTC:20240817T093000
DTEND;TZID=UTC:20240817T110000
DTSTAMP:20260424T113246
CREATED:20240724T101437Z
LAST-MODIFIED:20240724T101437Z
UID:1197-1723887000-1723892400@jjasnack.co.uk
SUMMARY:Chocolate Experience
DESCRIPTION:
URL:https://jjasnack.co.uk/event/chocolate-experience-62/
END:VEVENT
BEGIN:VEVENT
DTSTART;TZID=UTC:20240816T110000
DTEND;TZID=UTC:20240816T123000
DTSTAMP:20260424T113246
CREATED:20240724T101343Z
LAST-MODIFIED:20240724T101343Z
UID:1194-1723806000-1723811400@jjasnack.co.uk
SUMMARY:Chocolate Experience
DESCRIPTION:
URL:https://jjasnack.co.uk/event/chocolate-experience-61/
END:VEVENT
BEGIN:VEVENT
DTSTART;TZID=UTC:20240816T093000
DTEND;TZID=UTC:20240816T110000
DTSTAMP:20260424T113246
CREATED:20240724T101252Z
LAST-MODIFIED:20240724T101252Z
UID:1191-1723800600-1723806000@jjasnack.co.uk
SUMMARY:Chocolate Experience
DESCRIPTION:
URL:https://jjasnack.co.uk/event/chocolate-experience-60/
END:VEVENT
BEGIN:VEVENT
DTSTART;TZID=UTC:20240815T110000
DTEND;TZID=UTC:20240815T123000
DTSTAMP:20260424T113246
CREATED:20240724T101148Z
LAST-MODIFIED:20240724T101201Z
UID:1188-1723719600-1723725000@jjasnack.co.uk
SUMMARY:Chocolate Experience
DESCRIPTION:
URL:https://jjasnack.co.uk/event/chocolate-experience-59/
END:VEVENT
BEGIN:VEVENT
DTSTART;TZID=UTC:20240815T093000
DTEND;TZID=UTC:20240815T110000
DTSTAMP:20260424T113246
CREATED:20240724T101054Z
LAST-MODIFIED:20240724T101054Z
UID:1185-1723714200-1723719600@jjasnack.co.uk
SUMMARY:Chocolate Experience
DESCRIPTION:
URL:https://jjasnack.co.uk/event/chocolate-experience-58/
END:VEVENT
BEGIN:VEVENT
DTSTART;TZID=UTC:20240814T110000
DTEND;TZID=UTC:20240814T123000
DTSTAMP:20260424T113246
CREATED:20240724T101005Z
LAST-MODIFIED:20240724T101005Z
UID:1182-1723633200-1723638600@jjasnack.co.uk
SUMMARY:Chocolate Experience
DESCRIPTION:
URL:https://jjasnack.co.uk/event/chocolate-experience-57/
END:VEVENT
BEGIN:VEVENT
DTSTART;TZID=UTC:20240814T093000
DTEND;TZID=UTC:20240814T110000
DTSTAMP:20260424T113246
CREATED:20240724T100728Z
LAST-MODIFIED:20240724T100728Z
UID:1179-1723627800-1723633200@jjasnack.co.uk
SUMMARY:Chocolate Experience
DESCRIPTION:
URL:https://jjasnack.co.uk/event/chocolate-experience-56/
END:VEVENT
BEGIN:VEVENT
DTSTART;TZID=UTC:20240811T110000
DTEND;TZID=UTC:20240811T123000
DTSTAMP:20260424T113246
CREATED:20240724T100411Z
LAST-MODIFIED:20240724T100411Z
UID:1176-1723374000-1723379400@jjasnack.co.uk
SUMMARY:Chocolate Experience
DESCRIPTION:
URL:https://jjasnack.co.uk/event/chocolate-experience-55/
END:VEVENT
BEGIN:VEVENT
DTSTART;TZID=UTC:20240811T093000
DTEND;TZID=UTC:20240811T110000
DTSTAMP:20260424T113246
CREATED:20240724T100309Z
LAST-MODIFIED:20240724T100309Z
UID:1173-1723368600-1723374000@jjasnack.co.uk
SUMMARY:Chocolate Experience
DESCRIPTION:
URL:https://jjasnack.co.uk/event/chocolate-experience-54/
END:VEVENT
BEGIN:VEVENT
DTSTART;TZID=UTC:20240810T110000
DTEND;TZID=UTC:20240810T123000
DTSTAMP:20260424T113246
CREATED:20240724T100214Z
LAST-MODIFIED:20240724T100214Z
UID:1170-1723287600-1723293000@jjasnack.co.uk
SUMMARY:Chocolate Experience
DESCRIPTION:
URL:https://jjasnack.co.uk/event/chocolate-experience-53/
END:VEVENT
BEGIN:VEVENT
DTSTART;TZID=UTC:20240810T093000
DTEND;TZID=UTC:20240810T110000
DTSTAMP:20260424T113246
CREATED:20240724T100107Z
LAST-MODIFIED:20240724T100107Z
UID:1167-1723282200-1723287600@jjasnack.co.uk
SUMMARY:Chocolate Experience
DESCRIPTION:
URL:https://jjasnack.co.uk/event/chocolate-experience-52/
END:VEVENT
END:VCALENDAR