BEGIN:VCALENDAR
VERSION:2.0
PRODID:-//JJA Snack - ECPv6.15.20//NONSGML v1.0//EN
CALSCALE:GREGORIAN
METHOD:PUBLISH
X-ORIGINAL-URL:https://jjasnack.co.uk
X-WR-CALDESC:Events for JJA Snack
REFRESH-INTERVAL;VALUE=DURATION:PT1H
X-Robots-Tag:noindex
X-PUBLISHED-TTL:PT1H
BEGIN:VTIMEZONE
TZID:UTC
BEGIN:STANDARD
TZOFFSETFROM:+0000
TZOFFSETTO:+0000
TZNAME:UTC
DTSTART:20230101T000000
END:STANDARD
END:VTIMEZONE
BEGIN:VEVENT
DTSTART;TZID=UTC:20241010T093000
DTEND;TZID=UTC:20241010T110000
DTSTAMP:20260419T101406
CREATED:20240912T085459Z
LAST-MODIFIED:20240912T085459Z
UID:1512-1728552600-1728558000@jjasnack.co.uk
SUMMARY:Chocolate Experience
DESCRIPTION:
URL:https://jjasnack.co.uk/event/chocolate-experience-131/
END:VEVENT
BEGIN:VEVENT
DTSTART;TZID=UTC:20241009T110000
DTEND;TZID=UTC:20241009T123000
DTSTAMP:20260419T101406
CREATED:20240912T085313Z
LAST-MODIFIED:20240912T085313Z
UID:1509-1728471600-1728477000@jjasnack.co.uk
SUMMARY:Chocolate Experience
DESCRIPTION:
URL:https://jjasnack.co.uk/event/chocolate-experience-130/
END:VEVENT
BEGIN:VEVENT
DTSTART;TZID=UTC:20241009T093000
DTEND;TZID=UTC:20241009T110000
DTSTAMP:20260419T101406
CREATED:20240912T085229Z
LAST-MODIFIED:20240912T085229Z
UID:1506-1728466200-1728471600@jjasnack.co.uk
SUMMARY:Chocolate Experience
DESCRIPTION:
URL:https://jjasnack.co.uk/event/chocolate-experience-129/
END:VEVENT
BEGIN:VEVENT
DTSTART;TZID=UTC:20241006T110000
DTEND;TZID=UTC:20241006T123000
DTSTAMP:20260419T101406
CREATED:20240912T085138Z
LAST-MODIFIED:20240912T085138Z
UID:1503-1728212400-1728217800@jjasnack.co.uk
SUMMARY:Chocolate Experience
DESCRIPTION:
URL:https://jjasnack.co.uk/event/chocolate-experience-128/
END:VEVENT
BEGIN:VEVENT
DTSTART;TZID=UTC:20241006T093000
DTEND;TZID=UTC:20241006T110000
DTSTAMP:20260419T101406
CREATED:20240912T085030Z
LAST-MODIFIED:20240912T085030Z
UID:1500-1728207000-1728212400@jjasnack.co.uk
SUMMARY:Chocolate Experience
DESCRIPTION:
URL:https://jjasnack.co.uk/event/chocolate-experience-127/
END:VEVENT
BEGIN:VEVENT
DTSTART;TZID=UTC:20241005T110000
DTEND;TZID=UTC:20241005T123000
DTSTAMP:20260419T101406
CREATED:20240912T084937Z
LAST-MODIFIED:20240912T084937Z
UID:1497-1728126000-1728131400@jjasnack.co.uk
SUMMARY:Chocolate Experience
DESCRIPTION:
URL:https://jjasnack.co.uk/event/chocolate-experience-114/
END:VEVENT
BEGIN:VEVENT
DTSTART;TZID=UTC:20241005T093000
DTEND;TZID=UTC:20241005T110000
DTSTAMP:20260419T101406
CREATED:20240912T084850Z
LAST-MODIFIED:20240912T084850Z
UID:1494-1728120600-1728126000@jjasnack.co.uk
SUMMARY:Chocolate Experience
DESCRIPTION:
URL:https://jjasnack.co.uk/event/chocolate-experience-113/
END:VEVENT
BEGIN:VEVENT
DTSTART;TZID=UTC:20241004T110000
DTEND;TZID=UTC:20241004T123000
DTSTAMP:20260419T101406
CREATED:20240912T084745Z
LAST-MODIFIED:20240912T084745Z
UID:1491-1728039600-1728045000@jjasnack.co.uk
SUMMARY:Chocolate Experience
DESCRIPTION:
URL:https://jjasnack.co.uk/event/chocolate-experience-112/
END:VEVENT
BEGIN:VEVENT
DTSTART;TZID=UTC:20241004T093000
DTEND;TZID=UTC:20241004T110000
DTSTAMP:20260419T101406
CREATED:20240912T084638Z
LAST-MODIFIED:20240912T084638Z
UID:1488-1728034200-1728039600@jjasnack.co.uk
SUMMARY:Chocolate Experience
DESCRIPTION:
URL:https://jjasnack.co.uk/event/chocolate-experience-111/
END:VEVENT
BEGIN:VEVENT
DTSTART;TZID=UTC:20241003T110000
DTEND;TZID=UTC:20241003T123000
DTSTAMP:20260419T101406
CREATED:20240912T084549Z
LAST-MODIFIED:20240912T084549Z
UID:1485-1727953200-1727958600@jjasnack.co.uk
SUMMARY:Chocolate Experience
DESCRIPTION:
URL:https://jjasnack.co.uk/event/chocolate-experience-110/
END:VEVENT
BEGIN:VEVENT
DTSTART;TZID=UTC:20241003T093000
DTEND;TZID=UTC:20241003T110000
DTSTAMP:20260419T101406
CREATED:20240912T084451Z
LAST-MODIFIED:20240912T084451Z
UID:1482-1727947800-1727953200@jjasnack.co.uk
SUMMARY:Chocolate Experience
DESCRIPTION:
URL:https://jjasnack.co.uk/event/chocolate-experience-109/
END:VEVENT
BEGIN:VEVENT
DTSTART;TZID=UTC:20241002T110000
DTEND;TZID=UTC:20241002T123000
DTSTAMP:20260419T101406
CREATED:20240912T084358Z
LAST-MODIFIED:20240912T090735Z
UID:1479-1727866800-1727872200@jjasnack.co.uk
SUMMARY:Chocolate Experience
DESCRIPTION:
URL:https://jjasnack.co.uk/event/chocolate-experience-108/
END:VEVENT
BEGIN:VEVENT
DTSTART;TZID=UTC:20241002T093000
DTEND;TZID=UTC:20241002T110000
DTSTAMP:20260419T101406
CREATED:20240912T084310Z
LAST-MODIFIED:20240912T084310Z
UID:1476-1727861400-1727866800@jjasnack.co.uk
SUMMARY:Chocolate Experience
DESCRIPTION:
URL:https://jjasnack.co.uk/event/chocolate-experience-107/
END:VEVENT
BEGIN:VEVENT
DTSTART;TZID=UTC:20240929T110000
DTEND;TZID=UTC:20240929T123000
DTSTAMP:20260419T101406
CREATED:20240729T111131Z
LAST-MODIFIED:20240729T111131Z
UID:1393-1727607600-1727613000@jjasnack.co.uk
SUMMARY:Chocolate Experience
DESCRIPTION:
URL:https://jjasnack.co.uk/event/chocolate-experience-126/
END:VEVENT
BEGIN:VEVENT
DTSTART;TZID=UTC:20240929T093000
DTEND;TZID=UTC:20240929T110000
DTSTAMP:20260419T101406
CREATED:20240729T111035Z
LAST-MODIFIED:20240729T111035Z
UID:1390-1727602200-1727607600@jjasnack.co.uk
SUMMARY:Chocolate Experience
DESCRIPTION:
URL:https://jjasnack.co.uk/event/chocolate-experience-125/
END:VEVENT
BEGIN:VEVENT
DTSTART;TZID=UTC:20240928T110000
DTEND;TZID=UTC:20240928T123000
DTSTAMP:20260419T101406
CREATED:20240729T110949Z
LAST-MODIFIED:20240729T110949Z
UID:1387-1727521200-1727526600@jjasnack.co.uk
SUMMARY:Chocolate Experience
DESCRIPTION:
URL:https://jjasnack.co.uk/event/chocolate-experience-124/
END:VEVENT
BEGIN:VEVENT
DTSTART;TZID=UTC:20240928T093000
DTEND;TZID=UTC:20240928T110000
DTSTAMP:20260419T101406
CREATED:20240729T110840Z
LAST-MODIFIED:20240729T110840Z
UID:1384-1727515800-1727521200@jjasnack.co.uk
SUMMARY:Chocolate Experience
DESCRIPTION:
URL:https://jjasnack.co.uk/event/chocolate-experience-123/
END:VEVENT
BEGIN:VEVENT
DTSTART;TZID=UTC:20240927T110000
DTEND;TZID=UTC:20240927T123000
DTSTAMP:20260419T101406
CREATED:20240729T110758Z
LAST-MODIFIED:20240729T110758Z
UID:1381-1727434800-1727440200@jjasnack.co.uk
SUMMARY:Chocolate Experience
DESCRIPTION:
URL:https://jjasnack.co.uk/event/chocolate-experience-122/
END:VEVENT
BEGIN:VEVENT
DTSTART;TZID=UTC:20240927T093000
DTEND;TZID=UTC:20240927T110000
DTSTAMP:20260419T101406
CREATED:20240729T110639Z
LAST-MODIFIED:20240729T110639Z
UID:1378-1727429400-1727434800@jjasnack.co.uk
SUMMARY:Chocolate Experience
DESCRIPTION:
URL:https://jjasnack.co.uk/event/chocolate-experience-121/
END:VEVENT
BEGIN:VEVENT
DTSTART;TZID=UTC:20240926T110000
DTEND;TZID=UTC:20240926T123000
DTSTAMP:20260419T101406
CREATED:20240729T110556Z
LAST-MODIFIED:20240729T110556Z
UID:1375-1727348400-1727353800@jjasnack.co.uk
SUMMARY:Chocolate Experience
DESCRIPTION:
URL:https://jjasnack.co.uk/event/chocolate-experience-120/
END:VEVENT
BEGIN:VEVENT
DTSTART;TZID=UTC:20240926T093000
DTEND;TZID=UTC:20240926T110000
DTSTAMP:20260419T101406
CREATED:20240729T110513Z
LAST-MODIFIED:20240729T110513Z
UID:1372-1727343000-1727348400@jjasnack.co.uk
SUMMARY:Chocolate Experience
DESCRIPTION:
URL:https://jjasnack.co.uk/event/chocolate-experience-119/
END:VEVENT
BEGIN:VEVENT
DTSTART;TZID=UTC:20240925T110000
DTEND;TZID=UTC:20240925T123000
DTSTAMP:20260419T101406
CREATED:20240729T110241Z
LAST-MODIFIED:20240729T110241Z
UID:1369-1727262000-1727267400@jjasnack.co.uk
SUMMARY:Chocolate Experience
DESCRIPTION:
URL:https://jjasnack.co.uk/event/chocolate-experience-118/
END:VEVENT
BEGIN:VEVENT
DTSTART;TZID=UTC:20240925T093000
DTEND;TZID=UTC:20240925T110000
DTSTAMP:20260419T101406
CREATED:20240729T110131Z
LAST-MODIFIED:20240729T110131Z
UID:1366-1727256600-1727262000@jjasnack.co.uk
SUMMARY:Chocolate Experience
DESCRIPTION:
URL:https://jjasnack.co.uk/event/chocolate-experience-117/
END:VEVENT
BEGIN:VEVENT
DTSTART;TZID=UTC:20240922T110000
DTEND;TZID=UTC:20240922T123000
DTSTAMP:20260419T101406
CREATED:20240729T110018Z
LAST-MODIFIED:20240729T110018Z
UID:1363-1727002800-1727008200@jjasnack.co.uk
SUMMARY:Chocolate Experience
DESCRIPTION:
URL:https://jjasnack.co.uk/event/chocolate-experience-116/
END:VEVENT
BEGIN:VEVENT
DTSTART;TZID=UTC:20240922T093000
DTEND;TZID=UTC:20240922T110000
DTSTAMP:20260419T101406
CREATED:20240729T105828Z
LAST-MODIFIED:20240729T105828Z
UID:1360-1726997400-1727002800@jjasnack.co.uk
SUMMARY:Chocolate Experience
DESCRIPTION:
URL:https://jjasnack.co.uk/event/chocolate-experience-115/
END:VEVENT
BEGIN:VEVENT
DTSTART;TZID=UTC:20240921T110000
DTEND;TZID=UTC:20240921T123000
DTSTAMP:20260419T101406
CREATED:20240912T081113Z
LAST-MODIFIED:20240912T081113Z
UID:1473-1726916400-1726921800@jjasnack.co.uk
SUMMARY:Chocolate Experience
DESCRIPTION:
URL:https://jjasnack.co.uk/event/chocolate-experience-106/
END:VEVENT
BEGIN:VEVENT
DTSTART;TZID=UTC:20240921T093000
DTEND;TZID=UTC:20240921T110000
DTSTAMP:20260419T101406
CREATED:20240912T081028Z
LAST-MODIFIED:20240912T081028Z
UID:1470-1726911000-1726916400@jjasnack.co.uk
SUMMARY:Chocolate Experience
DESCRIPTION:
URL:https://jjasnack.co.uk/event/chocolate-experience-105/
END:VEVENT
BEGIN:VEVENT
DTSTART;TZID=UTC:20240915T110000
DTEND;TZID=UTC:20240915T123000
DTSTAMP:20260419T101406
CREATED:20240912T080837Z
LAST-MODIFIED:20240912T080837Z
UID:1467-1726398000-1726403400@jjasnack.co.uk
SUMMARY:Chocolate Experience
DESCRIPTION:
URL:https://jjasnack.co.uk/event/chocolate-experience-104/
END:VEVENT
BEGIN:VEVENT
DTSTART;TZID=UTC:20240915T093000
DTEND;TZID=UTC:20240915T110000
DTSTAMP:20260419T101406
CREATED:20240912T080742Z
LAST-MODIFIED:20240912T080742Z
UID:1464-1726392600-1726398000@jjasnack.co.uk
SUMMARY:Chocolate Experience
DESCRIPTION:
URL:https://jjasnack.co.uk/event/chocolate-experience-103/
END:VEVENT
BEGIN:VEVENT
DTSTART;TZID=UTC:20240914T110000
DTEND;TZID=UTC:20240914T123000
DTSTAMP:20260419T101406
CREATED:20240912T080633Z
LAST-MODIFIED:20240912T080633Z
UID:1461-1726311600-1726317000@jjasnack.co.uk
SUMMARY:Chocolate Experience
DESCRIPTION:
URL:https://jjasnack.co.uk/event/chocolate-experience-69/
END:VEVENT
END:VCALENDAR