BEGIN:VCALENDAR
VERSION:2.0
PRODID:-//JJA Snack - ECPv6.15.20//NONSGML v1.0//EN
CALSCALE:GREGORIAN
METHOD:PUBLISH
X-WR-CALNAME:JJA Snack
X-ORIGINAL-URL:https://jjasnack.co.uk
X-WR-CALDESC:Events for JJA Snack
REFRESH-INTERVAL;VALUE=DURATION:PT1H
X-Robots-Tag:noindex
X-PUBLISHED-TTL:PT1H
BEGIN:VTIMEZONE
TZID:UTC
BEGIN:STANDARD
TZOFFSETFROM:+0000
TZOFFSETTO:+0000
TZNAME:UTC
DTSTART:20230101T000000
END:STANDARD
END:VTIMEZONE
BEGIN:VEVENT
DTSTART;TZID=UTC:20241026T093000
DTEND;TZID=UTC:20241026T110000
DTSTAMP:20260424T031831
CREATED:20240912T110411Z
LAST-MODIFIED:20240912T110615Z
UID:1581-1729935000-1729940400@jjasnack.co.uk
SUMMARY:Chocolate Experience
DESCRIPTION:
URL:https://jjasnack.co.uk/event/chocolate-experience-154/
END:VEVENT
BEGIN:VEVENT
DTSTART;TZID=UTC:20241025T110000
DTEND;TZID=UTC:20241025T123000
DTSTAMP:20260424T031831
CREATED:20240912T111042Z
LAST-MODIFIED:20240912T111042Z
UID:1594-1729854000-1729859400@jjasnack.co.uk
SUMMARY:Chocolate Experience
DESCRIPTION:
URL:https://jjasnack.co.uk/event/chocolate-experience-158/
END:VEVENT
BEGIN:VEVENT
DTSTART;TZID=UTC:20241025T093000
DTEND;TZID=UTC:20241025T110000
DTSTAMP:20260424T031831
CREATED:20240912T110332Z
LAST-MODIFIED:20240912T110332Z
UID:1578-1729848600-1729854000@jjasnack.co.uk
SUMMARY:Chocolate Experience
DESCRIPTION:
URL:https://jjasnack.co.uk/event/chocolate-experience-153/
END:VEVENT
BEGIN:VEVENT
DTSTART;TZID=UTC:20241024T110000
DTEND;TZID=UTC:20241024T123000
DTSTAMP:20260424T031831
CREATED:20240912T110216Z
LAST-MODIFIED:20240912T110216Z
UID:1575-1729767600-1729773000@jjasnack.co.uk
SUMMARY:Chocolate Experience
DESCRIPTION:
URL:https://jjasnack.co.uk/event/chocolate-experience-152/
END:VEVENT
BEGIN:VEVENT
DTSTART;TZID=UTC:20241024T093000
DTEND;TZID=UTC:20241024T110000
DTSTAMP:20260424T031831
CREATED:20240912T110108Z
LAST-MODIFIED:20240912T110108Z
UID:1572-1729762200-1729767600@jjasnack.co.uk
SUMMARY:Chocolate Experience
DESCRIPTION:
URL:https://jjasnack.co.uk/event/chocolate-experience-151/
END:VEVENT
BEGIN:VEVENT
DTSTART;TZID=UTC:20241023T110000
DTEND;TZID=UTC:20241023T123000
DTSTAMP:20260424T031831
CREATED:20240912T110022Z
LAST-MODIFIED:20240912T110022Z
UID:1569-1729681200-1729686600@jjasnack.co.uk
SUMMARY:Chocolate Experience
DESCRIPTION:
URL:https://jjasnack.co.uk/event/chocolate-experience-150/
END:VEVENT
BEGIN:VEVENT
DTSTART;TZID=UTC:20241023T093000
DTEND;TZID=UTC:20241023T110000
DTSTAMP:20260424T031831
CREATED:20240912T105934Z
LAST-MODIFIED:20240912T105934Z
UID:1566-1729675800-1729681200@jjasnack.co.uk
SUMMARY:Chocolate Experience
DESCRIPTION:
URL:https://jjasnack.co.uk/event/chocolate-experience-149/
END:VEVENT
BEGIN:VEVENT
DTSTART;TZID=UTC:20241020T110000
DTEND;TZID=UTC:20241020T123000
DTSTAMP:20260424T031831
CREATED:20240912T105848Z
LAST-MODIFIED:20240912T105848Z
UID:1563-1729422000-1729427400@jjasnack.co.uk
SUMMARY:Chocolate Experience
DESCRIPTION:
URL:https://jjasnack.co.uk/event/chocolate-experience-148/
END:VEVENT
BEGIN:VEVENT
DTSTART;TZID=UTC:20241020T093000
DTEND;TZID=UTC:20241020T110000
DTSTAMP:20260424T031831
CREATED:20240912T105756Z
LAST-MODIFIED:20240912T105756Z
UID:1560-1729416600-1729422000@jjasnack.co.uk
SUMMARY:Chocolate Experience
DESCRIPTION:
URL:https://jjasnack.co.uk/event/chocolate-experience-147/
END:VEVENT
BEGIN:VEVENT
DTSTART;TZID=UTC:20241019T110000
DTEND;TZID=UTC:20241019T123000
DTSTAMP:20260424T031831
CREATED:20240912T105709Z
LAST-MODIFIED:20240912T105709Z
UID:1557-1729335600-1729341000@jjasnack.co.uk
SUMMARY:Chocolate Experience
DESCRIPTION:
URL:https://jjasnack.co.uk/event/chocolate-experience-146/
END:VEVENT
BEGIN:VEVENT
DTSTART;TZID=UTC:20241019T093000
DTEND;TZID=UTC:20241019T230000
DTSTAMP:20260424T031831
CREATED:20240912T094035Z
LAST-MODIFIED:20240912T094035Z
UID:1554-1729330200-1729378800@jjasnack.co.uk
SUMMARY:Chocolate Experience
DESCRIPTION:
URL:https://jjasnack.co.uk/event/chocolate-experience-145/
END:VEVENT
BEGIN:VEVENT
DTSTART;TZID=UTC:20241018T110000
DTEND;TZID=UTC:20241018T123000
DTSTAMP:20260424T031831
CREATED:20240912T090621Z
LAST-MODIFIED:20240912T090621Z
UID:1551-1729249200-1729254600@jjasnack.co.uk
SUMMARY:Chocolate Experience
DESCRIPTION:
URL:https://jjasnack.co.uk/event/chocolate-experience-144/
END:VEVENT
BEGIN:VEVENT
DTSTART;TZID=UTC:20241018T093000
DTEND;TZID=UTC:20241018T110000
DTSTAMP:20260424T031831
CREATED:20240912T090539Z
LAST-MODIFIED:20240912T090539Z
UID:1548-1729243800-1729249200@jjasnack.co.uk
SUMMARY:Chocolate Experience
DESCRIPTION:
URL:https://jjasnack.co.uk/event/chocolate-experience-143/
END:VEVENT
BEGIN:VEVENT
DTSTART;TZID=UTC:20241017T110000
DTEND;TZID=UTC:20241017T123000
DTSTAMP:20260424T031831
CREATED:20240912T090504Z
LAST-MODIFIED:20240912T090504Z
UID:1545-1729162800-1729168200@jjasnack.co.uk
SUMMARY:Chocolate Experience
DESCRIPTION:
URL:https://jjasnack.co.uk/event/chocolate-experience-142/
END:VEVENT
BEGIN:VEVENT
DTSTART;TZID=UTC:20241017T093000
DTEND;TZID=UTC:20241017T110000
DTSTAMP:20260424T031831
CREATED:20240912T090425Z
LAST-MODIFIED:20240912T090425Z
UID:1542-1729157400-1729162800@jjasnack.co.uk
SUMMARY:Chocolate Experience
DESCRIPTION:
URL:https://jjasnack.co.uk/event/chocolate-experience-141/
END:VEVENT
BEGIN:VEVENT
DTSTART;TZID=UTC:20241016T110000
DTEND;TZID=UTC:20241016T123000
DTSTAMP:20260424T031831
CREATED:20240912T090340Z
LAST-MODIFIED:20240912T090340Z
UID:1539-1729076400-1729081800@jjasnack.co.uk
SUMMARY:Chocolate Experience
DESCRIPTION:
URL:https://jjasnack.co.uk/event/chocolate-experience-140/
END:VEVENT
BEGIN:VEVENT
DTSTART;TZID=UTC:20241016T093000
DTEND;TZID=UTC:20241016T110000
DTSTAMP:20260424T031831
CREATED:20240912T090306Z
LAST-MODIFIED:20240912T090306Z
UID:1536-1729071000-1729076400@jjasnack.co.uk
SUMMARY:Chocolate Experience
DESCRIPTION:
URL:https://jjasnack.co.uk/event/chocolate-experience-139/
END:VEVENT
BEGIN:VEVENT
DTSTART;TZID=UTC:20241013T110000
DTEND;TZID=UTC:20241013T123000
DTSTAMP:20260424T031831
CREATED:20240912T090219Z
LAST-MODIFIED:20240912T090219Z
UID:1533-1728817200-1728822600@jjasnack.co.uk
SUMMARY:Chocolate Experience
DESCRIPTION:
URL:https://jjasnack.co.uk/event/chocolate-experience-138/
END:VEVENT
BEGIN:VEVENT
DTSTART;TZID=UTC:20241013T093000
DTEND;TZID=UTC:20241013T110000
DTSTAMP:20260424T031831
CREATED:20240912T090119Z
LAST-MODIFIED:20240912T090119Z
UID:1530-1728811800-1728817200@jjasnack.co.uk
SUMMARY:Chocolate Experience
DESCRIPTION:
URL:https://jjasnack.co.uk/event/chocolate-experience-137/
END:VEVENT
BEGIN:VEVENT
DTSTART;TZID=UTC:20241012T110000
DTEND;TZID=UTC:20241012T123000
DTSTAMP:20260424T031831
CREATED:20240912T090020Z
LAST-MODIFIED:20240912T090020Z
UID:1527-1728730800-1728736200@jjasnack.co.uk
SUMMARY:Chocolate Experience
DESCRIPTION:
URL:https://jjasnack.co.uk/event/chocolate-experience-136/
END:VEVENT
BEGIN:VEVENT
DTSTART;TZID=UTC:20241012T093000
DTEND;TZID=UTC:20241012T110000
DTSTAMP:20260424T031831
CREATED:20240912T085916Z
LAST-MODIFIED:20240912T085916Z
UID:1524-1728725400-1728730800@jjasnack.co.uk
SUMMARY:Chocolate Experience
DESCRIPTION:
URL:https://jjasnack.co.uk/event/chocolate-experience-135/
END:VEVENT
BEGIN:VEVENT
DTSTART;TZID=UTC:20241011T110000
DTEND;TZID=UTC:20241011T123000
DTSTAMP:20260424T031831
CREATED:20240912T085747Z
LAST-MODIFIED:20240912T085747Z
UID:1521-1728644400-1728649800@jjasnack.co.uk
SUMMARY:Chocolate Experience
DESCRIPTION:
URL:https://jjasnack.co.uk/event/chocolate-experience-134/
END:VEVENT
BEGIN:VEVENT
DTSTART;TZID=UTC:20241011T093000
DTEND;TZID=UTC:20241011T110000
DTSTAMP:20260424T031831
CREATED:20240912T085704Z
LAST-MODIFIED:20240912T085704Z
UID:1518-1728639000-1728644400@jjasnack.co.uk
SUMMARY:Chocolate Experience
DESCRIPTION:
URL:https://jjasnack.co.uk/event/chocolate-experience-133/
END:VEVENT
BEGIN:VEVENT
DTSTART;TZID=UTC:20241010T110000
DTEND;TZID=UTC:20241010T123000
DTSTAMP:20260424T031831
CREATED:20240912T085617Z
LAST-MODIFIED:20240912T085617Z
UID:1515-1728558000-1728563400@jjasnack.co.uk
SUMMARY:Chocolate Experience
DESCRIPTION:
URL:https://jjasnack.co.uk/event/chocolate-experience-132/
END:VEVENT
BEGIN:VEVENT
DTSTART;TZID=UTC:20241010T093000
DTEND;TZID=UTC:20241010T110000
DTSTAMP:20260424T031831
CREATED:20240912T085459Z
LAST-MODIFIED:20240912T085459Z
UID:1512-1728552600-1728558000@jjasnack.co.uk
SUMMARY:Chocolate Experience
DESCRIPTION:
URL:https://jjasnack.co.uk/event/chocolate-experience-131/
END:VEVENT
BEGIN:VEVENT
DTSTART;TZID=UTC:20241009T110000
DTEND;TZID=UTC:20241009T123000
DTSTAMP:20260424T031831
CREATED:20240912T085313Z
LAST-MODIFIED:20240912T085313Z
UID:1509-1728471600-1728477000@jjasnack.co.uk
SUMMARY:Chocolate Experience
DESCRIPTION:
URL:https://jjasnack.co.uk/event/chocolate-experience-130/
END:VEVENT
BEGIN:VEVENT
DTSTART;TZID=UTC:20241009T093000
DTEND;TZID=UTC:20241009T110000
DTSTAMP:20260424T031831
CREATED:20240912T085229Z
LAST-MODIFIED:20240912T085229Z
UID:1506-1728466200-1728471600@jjasnack.co.uk
SUMMARY:Chocolate Experience
DESCRIPTION:
URL:https://jjasnack.co.uk/event/chocolate-experience-129/
END:VEVENT
BEGIN:VEVENT
DTSTART;TZID=UTC:20241006T110000
DTEND;TZID=UTC:20241006T123000
DTSTAMP:20260424T031831
CREATED:20240912T085138Z
LAST-MODIFIED:20240912T085138Z
UID:1503-1728212400-1728217800@jjasnack.co.uk
SUMMARY:Chocolate Experience
DESCRIPTION:
URL:https://jjasnack.co.uk/event/chocolate-experience-128/
END:VEVENT
BEGIN:VEVENT
DTSTART;TZID=UTC:20241006T093000
DTEND;TZID=UTC:20241006T110000
DTSTAMP:20260424T031831
CREATED:20240912T085030Z
LAST-MODIFIED:20240912T085030Z
UID:1500-1728207000-1728212400@jjasnack.co.uk
SUMMARY:Chocolate Experience
DESCRIPTION:
URL:https://jjasnack.co.uk/event/chocolate-experience-127/
END:VEVENT
BEGIN:VEVENT
DTSTART;TZID=UTC:20241005T110000
DTEND;TZID=UTC:20241005T123000
DTSTAMP:20260424T031831
CREATED:20240912T084937Z
LAST-MODIFIED:20240912T084937Z
UID:1497-1728126000-1728131400@jjasnack.co.uk
SUMMARY:Chocolate Experience
DESCRIPTION:
URL:https://jjasnack.co.uk/event/chocolate-experience-114/
END:VEVENT
END:VCALENDAR