BEGIN:VCALENDAR
VERSION:2.0
PRODID:-//JJA Snack - ECPv6.15.20//NONSGML v1.0//EN
CALSCALE:GREGORIAN
METHOD:PUBLISH
X-WR-CALNAME:JJA Snack
X-ORIGINAL-URL:https://jjasnack.co.uk
X-WR-CALDESC:Events for JJA Snack
REFRESH-INTERVAL;VALUE=DURATION:PT1H
X-Robots-Tag:noindex
X-PUBLISHED-TTL:PT1H
BEGIN:VTIMEZONE
TZID:UTC
BEGIN:STANDARD
TZOFFSETFROM:+0000
TZOFFSETTO:+0000
TZNAME:UTC
DTSTART:20230101T000000
END:STANDARD
END:VTIMEZONE
BEGIN:VEVENT
DTSTART;TZID=UTC:20241122T110000
DTEND;TZID=UTC:20241122T123000
DTSTAMP:20260421T072834
CREATED:20240913T100046Z
LAST-MODIFIED:20240913T100046Z
UID:1690-1732273200-1732278600@jjasnack.co.uk
SUMMARY:Chocolate Experience
DESCRIPTION:
URL:https://jjasnack.co.uk/event/chocolate-experience-189/
END:VEVENT
BEGIN:VEVENT
DTSTART;TZID=UTC:20241122T093000
DTEND;TZID=UTC:20241122T110000
DTSTAMP:20260421T072834
CREATED:20240913T095846Z
LAST-MODIFIED:20240913T095846Z
UID:1687-1732267800-1732273200@jjasnack.co.uk
SUMMARY:Chocolate Experience
DESCRIPTION:
URL:https://jjasnack.co.uk/event/chocolate-experience-188/
END:VEVENT
BEGIN:VEVENT
DTSTART;TZID=UTC:20241117T110000
DTEND;TZID=UTC:20241117T123000
DTSTAMP:20260421T072834
CREATED:20240913T094732Z
LAST-MODIFIED:20240913T094732Z
UID:1672-1731841200-1731846600@jjasnack.co.uk
SUMMARY:Chocolate Experience
DESCRIPTION:
URL:https://jjasnack.co.uk/event/chocolate-experience-183/
END:VEVENT
BEGIN:VEVENT
DTSTART;TZID=UTC:20241117T093000
DTEND;TZID=UTC:20241117T110000
DTSTAMP:20260421T072834
CREATED:20240913T094650Z
LAST-MODIFIED:20240913T094650Z
UID:1669-1731835800-1731841200@jjasnack.co.uk
SUMMARY:Chocolate Experience
DESCRIPTION:
URL:https://jjasnack.co.uk/event/chocolate-experience-182/
END:VEVENT
BEGIN:VEVENT
DTSTART;TZID=UTC:20241116T110000
DTEND;TZID=UTC:20241116T123000
DTSTAMP:20260421T072834
CREATED:20240913T094609Z
LAST-MODIFIED:20241112T122106Z
UID:1666-1731754800-1731760200@jjasnack.co.uk
SUMMARY:Chocolate Experience
DESCRIPTION:
URL:https://jjasnack.co.uk/event/chocolate-experience-181/
END:VEVENT
BEGIN:VEVENT
DTSTART;TZID=UTC:20241116T093000
DTEND;TZID=UTC:20241116T110000
DTSTAMP:20260421T072834
CREATED:20240913T094525Z
LAST-MODIFIED:20240913T094525Z
UID:1663-1731749400-1731754800@jjasnack.co.uk
SUMMARY:Chocolate Experience
DESCRIPTION:
URL:https://jjasnack.co.uk/event/chocolate-experience-180/
END:VEVENT
BEGIN:VEVENT
DTSTART;TZID=UTC:20241115T110000
DTEND;TZID=UTC:20241115T123000
DTSTAMP:20260421T072834
CREATED:20240913T094426Z
LAST-MODIFIED:20240913T094426Z
UID:1660-1731668400-1731673800@jjasnack.co.uk
SUMMARY:Chocolate Experience
DESCRIPTION:
URL:https://jjasnack.co.uk/event/chocolate-experience-179/
END:VEVENT
BEGIN:VEVENT
DTSTART;TZID=UTC:20241115T093000
DTEND;TZID=UTC:20241115T110000
DTSTAMP:20260421T072834
CREATED:20240913T094325Z
LAST-MODIFIED:20240913T094325Z
UID:1657-1731663000-1731668400@jjasnack.co.uk
SUMMARY:Chocolate Experience
DESCRIPTION:
URL:https://jjasnack.co.uk/event/chocolate-experience-178/
END:VEVENT
BEGIN:VEVENT
DTSTART;TZID=UTC:20241114T110000
DTEND;TZID=UTC:20241114T123000
DTSTAMP:20260421T072834
CREATED:20240913T094236Z
LAST-MODIFIED:20240913T094236Z
UID:1654-1731582000-1731587400@jjasnack.co.uk
SUMMARY:Chocolate Experience
DESCRIPTION:
URL:https://jjasnack.co.uk/event/chocolate-experience-177/
END:VEVENT
BEGIN:VEVENT
DTSTART;TZID=UTC:20241114T093000
DTEND;TZID=UTC:20241114T110000
DTSTAMP:20260421T072834
CREATED:20240913T094152Z
LAST-MODIFIED:20241112T122148Z
UID:1651-1731576600-1731582000@jjasnack.co.uk
SUMMARY:Chocolate Experience
DESCRIPTION:
URL:https://jjasnack.co.uk/event/chocolate-experience-176/
END:VEVENT
BEGIN:VEVENT
DTSTART;TZID=UTC:20241113T110000
DTEND;TZID=UTC:20241113T123000
DTSTAMP:20260421T072834
CREATED:20240913T094104Z
LAST-MODIFIED:20240913T094104Z
UID:1648-1731495600-1731501000@jjasnack.co.uk
SUMMARY:Chocolate Experience
DESCRIPTION:
URL:https://jjasnack.co.uk/event/chocolate-experience-175/
END:VEVENT
BEGIN:VEVENT
DTSTART;TZID=UTC:20241113T093000
DTEND;TZID=UTC:20241113T110000
DTSTAMP:20260421T072834
CREATED:20240913T094023Z
LAST-MODIFIED:20240913T094023Z
UID:1645-1731490200-1731495600@jjasnack.co.uk
SUMMARY:Chocolate Experience
DESCRIPTION:
URL:https://jjasnack.co.uk/event/chocolate-experience-174/
END:VEVENT
BEGIN:VEVENT
DTSTART;TZID=UTC:20241110T110000
DTEND;TZID=UTC:20241110T123000
DTSTAMP:20260421T072834
CREATED:20240913T093920Z
LAST-MODIFIED:20240913T093920Z
UID:1642-1731236400-1731241800@jjasnack.co.uk
SUMMARY:Chocolate Experience
DESCRIPTION:
URL:https://jjasnack.co.uk/event/chocolate-experience-173/
END:VEVENT
BEGIN:VEVENT
DTSTART;TZID=UTC:20241110T093000
DTEND;TZID=UTC:20241110T110000
DTSTAMP:20260421T072834
CREATED:20240913T093808Z
LAST-MODIFIED:20240913T093808Z
UID:1639-1731231000-1731236400@jjasnack.co.uk
SUMMARY:Chocolate Experience
DESCRIPTION:
URL:https://jjasnack.co.uk/event/chocolate-experience-172/
END:VEVENT
BEGIN:VEVENT
DTSTART;TZID=UTC:20241109T110000
DTEND;TZID=UTC:20241109T123000
DTSTAMP:20260421T072834
CREATED:20240913T093717Z
LAST-MODIFIED:20240913T093717Z
UID:1636-1731150000-1731155400@jjasnack.co.uk
SUMMARY:Chocolate Experience
DESCRIPTION:
URL:https://jjasnack.co.uk/event/chocolate-experience-171/
END:VEVENT
BEGIN:VEVENT
DTSTART;TZID=UTC:20241109T093000
DTEND;TZID=UTC:20241109T110000
DTSTAMP:20260421T072834
CREATED:20240913T093634Z
LAST-MODIFIED:20240913T093634Z
UID:1633-1731144600-1731150000@jjasnack.co.uk
SUMMARY:Chocolate Experience
DESCRIPTION:
URL:https://jjasnack.co.uk/event/chocolate-experience-170/
END:VEVENT
BEGIN:VEVENT
DTSTART;TZID=UTC:20241108T110000
DTEND;TZID=UTC:20241108T123000
DTSTAMP:20260421T072834
CREATED:20240711T114113Z
LAST-MODIFIED:20240913T111601Z
UID:1082-1731063600-1731069000@jjasnack.co.uk
SUMMARY:Chocolate Experience
DESCRIPTION:
URL:https://jjasnack.co.uk/event/chocolate-experience-37/
END:VEVENT
BEGIN:VEVENT
DTSTART;TZID=UTC:20241108T093000
DTEND;TZID=UTC:20241108T110000
DTSTAMP:20260421T072834
CREATED:20240711T113942Z
LAST-MODIFIED:20240711T113942Z
UID:1079-1731058200-1731063600@jjasnack.co.uk
SUMMARY:Chocolate Experience
DESCRIPTION:
URL:https://jjasnack.co.uk/event/chocolate-experience-36/
END:VEVENT
BEGIN:VEVENT
DTSTART;TZID=UTC:20241107T110000
DTEND;TZID=UTC:20241107T123000
DTSTAMP:20260421T072834
CREATED:20240913T093527Z
LAST-MODIFIED:20240913T093527Z
UID:1630-1730977200-1730982600@jjasnack.co.uk
SUMMARY:Chocolate Experience
DESCRIPTION:
URL:https://jjasnack.co.uk/event/chocolate-experience-169/
END:VEVENT
BEGIN:VEVENT
DTSTART;TZID=UTC:20241107T093000
DTEND;TZID=UTC:20241107T110000
DTSTAMP:20260421T072834
CREATED:20240913T093433Z
LAST-MODIFIED:20240913T093433Z
UID:1627-1730971800-1730977200@jjasnack.co.uk
SUMMARY:Chocolate Experience
DESCRIPTION:
URL:https://jjasnack.co.uk/event/chocolate-experience-168/
END:VEVENT
BEGIN:VEVENT
DTSTART;TZID=UTC:20241106T110000
DTEND;TZID=UTC:20241106T123000
DTSTAMP:20260421T072834
CREATED:20240913T093345Z
LAST-MODIFIED:20240913T093345Z
UID:1624-1730890800-1730896200@jjasnack.co.uk
SUMMARY:Chocolate Experience
DESCRIPTION:
URL:https://jjasnack.co.uk/event/chocolate-experience-167/
END:VEVENT
BEGIN:VEVENT
DTSTART;TZID=UTC:20241106T093000
DTEND;TZID=UTC:20241106T110000
DTSTAMP:20260421T072834
CREATED:20240913T093301Z
LAST-MODIFIED:20240913T093301Z
UID:1621-1730885400-1730890800@jjasnack.co.uk
SUMMARY:Chocolate Experience
DESCRIPTION:
URL:https://jjasnack.co.uk/event/chocolate-experience-166/
END:VEVENT
BEGIN:VEVENT
DTSTART;TZID=UTC:20241103T110000
DTEND;TZID=UTC:20241103T123000
DTSTAMP:20260421T072834
CREATED:20240913T093219Z
LAST-MODIFIED:20241029T101618Z
UID:1618-1730631600-1730637000@jjasnack.co.uk
SUMMARY:Chocolate Experience
DESCRIPTION:
URL:https://jjasnack.co.uk/event/chocolate-experience-165/
CATEGORIES:Halloween
END:VEVENT
BEGIN:VEVENT
DTSTART;TZID=UTC:20241103T093000
DTEND;TZID=UTC:20241103T110000
DTSTAMP:20260421T072834
CREATED:20240913T093118Z
LAST-MODIFIED:20241029T101631Z
UID:1615-1730626200-1730631600@jjasnack.co.uk
SUMMARY:Chocolate Experience
DESCRIPTION:
URL:https://jjasnack.co.uk/event/chocolate-experience-164/
CATEGORIES:Halloween
END:VEVENT
BEGIN:VEVENT
DTSTART;TZID=UTC:20241102T110000
DTEND;TZID=UTC:20241102T123000
DTSTAMP:20260421T072834
CREATED:20240913T093030Z
LAST-MODIFIED:20241029T101531Z
UID:1612-1730545200-1730550600@jjasnack.co.uk
SUMMARY:Chocolate Experience
DESCRIPTION:
URL:https://jjasnack.co.uk/event/chocolate-experience-163/
CATEGORIES:Halloween
END:VEVENT
BEGIN:VEVENT
DTSTART;TZID=UTC:20241102T093000
DTEND;TZID=UTC:20241102T110000
DTSTAMP:20260421T072834
CREATED:20240913T092521Z
LAST-MODIFIED:20241029T101548Z
UID:1609-1730539800-1730545200@jjasnack.co.uk
SUMMARY:Chocolate Experience
DESCRIPTION:
URL:https://jjasnack.co.uk/event/chocolate-experience-162/
CATEGORIES:Halloween
END:VEVENT
BEGIN:VEVENT
DTSTART;TZID=UTC:20241101T110000
DTEND;TZID=UTC:20241101T123000
DTSTAMP:20260421T072834
CREATED:20240711T113824Z
LAST-MODIFIED:20241029T101459Z
UID:1076-1730458800-1730464200@jjasnack.co.uk
SUMMARY:Chocolate Experience
DESCRIPTION:
URL:https://jjasnack.co.uk/event/chocolate-experience-35/
CATEGORIES:Halloween
END:VEVENT
BEGIN:VEVENT
DTSTART;TZID=UTC:20241101T093000
DTEND;TZID=UTC:20241101T110000
DTSTAMP:20260421T072834
CREATED:20240711T113649Z
LAST-MODIFIED:20241029T101440Z
UID:1073-1730453400-1730458800@jjasnack.co.uk
SUMMARY:Chocolate Experience
DESCRIPTION:
URL:https://jjasnack.co.uk/event/chocolate-experience-34/
CATEGORIES:Halloween
END:VEVENT
BEGIN:VEVENT
DTSTART;TZID=UTC:20241031T143000
DTEND;TZID=UTC:20241031T153000
DTSTAMP:20260421T072834
CREATED:20241011T125527Z
LAST-MODIFIED:20241030T103838Z
UID:1843-1730385000-1730388600@jjasnack.co.uk
SUMMARY:Chocolate Spooktacular Experience
DESCRIPTION:
URL:https://jjasnack.co.uk/event/chocolate-spooktacular-experience-3/
CATEGORIES:Halloween
END:VEVENT
BEGIN:VEVENT
DTSTART;TZID=UTC:20241031T131500
DTEND;TZID=UTC:20241031T141500
DTSTAMP:20260421T072834
CREATED:20241011T125426Z
LAST-MODIFIED:20241029T095100Z
UID:1840-1730380500-1730384100@jjasnack.co.uk
SUMMARY:Chocolate Spooktacular Experience
DESCRIPTION:
URL:https://jjasnack.co.uk/event/chocolate-spooktacular-experience-2/
CATEGORIES:Halloween
END:VEVENT
END:VCALENDAR