BEGIN:VCALENDAR
VERSION:2.0
PRODID:-//JJA Snack - ECPv6.15.20//NONSGML v1.0//EN
CALSCALE:GREGORIAN
METHOD:PUBLISH
X-ORIGINAL-URL:https://jjasnack.co.uk
X-WR-CALDESC:Events for JJA Snack
REFRESH-INTERVAL;VALUE=DURATION:PT1H
X-Robots-Tag:noindex
X-PUBLISHED-TTL:PT1H
BEGIN:VTIMEZONE
TZID:UTC
BEGIN:STANDARD
TZOFFSETFROM:+0000
TZOFFSETTO:+0000
TZNAME:UTC
DTSTART:20230101T000000
END:STANDARD
END:VTIMEZONE
BEGIN:VEVENT
DTSTART;TZID=UTC:20241211T110000
DTEND;TZID=UTC:20241211T123000
DTSTAMP:20260423T192353
CREATED:20241029T103417Z
LAST-MODIFIED:20241128T154653Z
UID:2031-1733914800-1733920200@jjasnack.co.uk
SUMMARY:Christmas Chocolate Factory Visit
DESCRIPTION:
URL:https://jjasnack.co.uk/event/chocolate-experience-212/
CATEGORIES:Christmas
END:VEVENT
BEGIN:VEVENT
DTSTART;TZID=UTC:20241211T093000
DTEND;TZID=UTC:20241211T110000
DTSTAMP:20260423T192353
CREATED:20241029T103253Z
LAST-MODIFIED:20241128T154712Z
UID:2028-1733909400-1733914800@jjasnack.co.uk
SUMMARY:Christmas Chocolate Factory Visit
DESCRIPTION:
URL:https://jjasnack.co.uk/event/chocolate-experience-211/
CATEGORIES:Christmas
END:VEVENT
BEGIN:VEVENT
DTSTART;TZID=UTC:20241208T110000
DTEND;TZID=UTC:20241208T123000
DTSTAMP:20260423T192353
CREATED:20241029T103207Z
LAST-MODIFIED:20241128T154836Z
UID:2025-1733655600-1733661000@jjasnack.co.uk
SUMMARY:Christmas Chocolate Factory Visit
DESCRIPTION:
URL:https://jjasnack.co.uk/event/chocolate-experience-210/
CATEGORIES:Christmas
END:VEVENT
BEGIN:VEVENT
DTSTART;TZID=UTC:20241208T093000
DTEND;TZID=UTC:20241208T110000
DTSTAMP:20260423T192353
CREATED:20241029T103118Z
LAST-MODIFIED:20241128T154853Z
UID:2022-1733650200-1733655600@jjasnack.co.uk
SUMMARY:Christmas Chocolate Factory Visit
DESCRIPTION:
URL:https://jjasnack.co.uk/event/chocolate-experience-209/
CATEGORIES:Christmas
END:VEVENT
BEGIN:VEVENT
DTSTART;TZID=UTC:20241207T110000
DTEND;TZID=UTC:20241207T123000
DTSTAMP:20260423T192353
CREATED:20241029T103023Z
LAST-MODIFIED:20241112T123350Z
UID:2019-1733569200-1733574600@jjasnack.co.uk
SUMMARY:Christmas Chocolate Factory Visit
DESCRIPTION:
URL:https://jjasnack.co.uk/event/chocolate-experience-208/
CATEGORIES:Christmas
END:VEVENT
BEGIN:VEVENT
DTSTART;TZID=UTC:20241207T093000
DTEND;TZID=UTC:20241207T110000
DTSTAMP:20260423T192353
CREATED:20241029T102934Z
LAST-MODIFIED:20241029T105040Z
UID:2016-1733563800-1733569200@jjasnack.co.uk
SUMMARY:Christmas Chocolate Factory Visit
DESCRIPTION:
URL:https://jjasnack.co.uk/event/chocolate-experience-207/
CATEGORIES:Christmas
END:VEVENT
BEGIN:VEVENT
DTSTART;TZID=UTC:20241206T110000
DTEND;TZID=UTC:20241206T123000
DTSTAMP:20260423T192353
CREATED:20241029T102837Z
LAST-MODIFIED:20241128T154915Z
UID:2013-1733482800-1733488200@jjasnack.co.uk
SUMMARY:Christmas Chocolate Factory Visit
DESCRIPTION:
URL:https://jjasnack.co.uk/event/chocolate-experience-206/
CATEGORIES:Christmas
END:VEVENT
BEGIN:VEVENT
DTSTART;TZID=UTC:20241206T093000
DTEND;TZID=UTC:20241206T110000
DTSTAMP:20260423T192353
CREATED:20241029T102743Z
LAST-MODIFIED:20241128T154933Z
UID:2010-1733477400-1733482800@jjasnack.co.uk
SUMMARY:Christmas Chocolate Factory Visit
DESCRIPTION:
URL:https://jjasnack.co.uk/event/chocolate-experience-205/
CATEGORIES:Christmas
END:VEVENT
BEGIN:VEVENT
DTSTART;TZID=UTC:20241205T110000
DTEND;TZID=UTC:20241205T123000
DTSTAMP:20260423T192353
CREATED:20241029T102634Z
LAST-MODIFIED:20241105T131623Z
UID:2007-1733396400-1733401800@jjasnack.co.uk
SUMMARY:Christmas Chocolate Factory Visit
DESCRIPTION:
URL:https://jjasnack.co.uk/event/chocolate-experience-204/
CATEGORIES:Christmas
END:VEVENT
BEGIN:VEVENT
DTSTART;TZID=UTC:20241205T093000
DTEND;TZID=UTC:20241205T110000
DTSTAMP:20260423T192353
CREATED:20241105T131833Z
LAST-MODIFIED:20241128T154041Z
UID:2149-1733391000-1733396400@jjasnack.co.uk
SUMMARY:Christmas Chocolate Factory Visit
DESCRIPTION:
URL:https://jjasnack.co.uk/event/christmas-chocolate-factory-visit-18/
CATEGORIES:Christmas
END:VEVENT
BEGIN:VEVENT
DTSTART;TZID=UTC:20241204T110000
DTEND;TZID=UTC:20241204T123000
DTSTAMP:20260423T192353
CREATED:20241029T102446Z
LAST-MODIFIED:20241029T104704Z
UID:2001-1733310000-1733315400@jjasnack.co.uk
SUMMARY:Christmas Chocolate Factory Visit
DESCRIPTION:
URL:https://jjasnack.co.uk/event/chocolate-experience-202/
CATEGORIES:Christmas
END:VEVENT
BEGIN:VEVENT
DTSTART;TZID=UTC:20241204T093000
DTEND;TZID=UTC:20241204T110000
DTSTAMP:20260423T192353
CREATED:20241029T102229Z
LAST-MODIFIED:20241112T122548Z
UID:1998-1733304600-1733310000@jjasnack.co.uk
SUMMARY:Christmas Chocolate Factory Visit
DESCRIPTION:
URL:https://jjasnack.co.uk/event/chocolate-experience-161/
CATEGORIES:Christmas
END:VEVENT
BEGIN:VEVENT
DTSTART;TZID=UTC:20241130T110000
DTEND;TZID=UTC:20241130T123000
DTSTAMP:20260423T192353
CREATED:20240913T111452Z
LAST-MODIFIED:20241014T095506Z
UID:1726-1732964400-1732969800@jjasnack.co.uk
SUMMARY:Chocolate Experience
DESCRIPTION:
URL:https://jjasnack.co.uk/event/chocolate-experience-201/
LOCATION:JJA Snack
END:VEVENT
BEGIN:VEVENT
DTSTART;TZID=UTC:20241130T093000
DTEND;TZID=UTC:20241130T110000
DTSTAMP:20260423T192353
CREATED:20240913T101227Z
LAST-MODIFIED:20240913T101227Z
UID:1723-1732959000-1732964400@jjasnack.co.uk
SUMMARY:Chocolate Experience
DESCRIPTION:
URL:https://jjasnack.co.uk/event/chocolate-experience-200/
END:VEVENT
BEGIN:VEVENT
DTSTART;TZID=UTC:20241129T110000
DTEND;TZID=UTC:20241129T123000
DTSTAMP:20260423T192353
CREATED:20240913T101147Z
LAST-MODIFIED:20240913T101147Z
UID:1720-1732878000-1732883400@jjasnack.co.uk
SUMMARY:Chocolate Experience
DESCRIPTION:
URL:https://jjasnack.co.uk/event/chocolate-experience-199/
END:VEVENT
BEGIN:VEVENT
DTSTART;TZID=UTC:20241129T093000
DTEND;TZID=UTC:20241129T110000
DTSTAMP:20260423T192353
CREATED:20240913T101113Z
LAST-MODIFIED:20240913T101113Z
UID:1717-1732872600-1732878000@jjasnack.co.uk
SUMMARY:Chocolate Experience
DESCRIPTION:
URL:https://jjasnack.co.uk/event/chocolate-experience-198/
END:VEVENT
BEGIN:VEVENT
DTSTART;TZID=UTC:20241128T110000
DTEND;TZID=UTC:20241128T123000
DTSTAMP:20260423T192353
CREATED:20240913T101030Z
LAST-MODIFIED:20241127T152556Z
UID:1714-1732791600-1732797000@jjasnack.co.uk
SUMMARY:Chocolate Experience
DESCRIPTION:
URL:https://jjasnack.co.uk/event/chocolate-experience-197/
END:VEVENT
BEGIN:VEVENT
DTSTART;TZID=UTC:20241128T093000
DTEND;TZID=UTC:20241128T110000
DTSTAMP:20260423T192353
CREATED:20240913T100948Z
LAST-MODIFIED:20241127T152536Z
UID:1711-1732786200-1732791600@jjasnack.co.uk
SUMMARY:Chocolate Experience
DESCRIPTION:
URL:https://jjasnack.co.uk/event/chocolate-experience-196/
END:VEVENT
BEGIN:VEVENT
DTSTART;TZID=UTC:20241127T110000
DTEND;TZID=UTC:20241127T123000
DTSTAMP:20260423T192353
CREATED:20240913T100906Z
LAST-MODIFIED:20240913T100906Z
UID:1708-1732705200-1732710600@jjasnack.co.uk
SUMMARY:Chocolate Experience
DESCRIPTION:
URL:https://jjasnack.co.uk/event/chocolate-experience-195/
END:VEVENT
BEGIN:VEVENT
DTSTART;TZID=UTC:20241127T093000
DTEND;TZID=UTC:20241127T110000
DTSTAMP:20260423T192353
CREATED:20240913T100829Z
LAST-MODIFIED:20240913T100829Z
UID:1705-1732699800-1732705200@jjasnack.co.uk
SUMMARY:Chocolate Experience
DESCRIPTION:
URL:https://jjasnack.co.uk/event/chocolate-experience-194/
END:VEVENT
BEGIN:VEVENT
DTSTART;TZID=UTC:20241124T110000
DTEND;TZID=UTC:20241124T123000
DTSTAMP:20260423T192353
CREATED:20240913T100748Z
LAST-MODIFIED:20240913T100748Z
UID:1702-1732446000-1732451400@jjasnack.co.uk
SUMMARY:Chocolate Experience
DESCRIPTION:
URL:https://jjasnack.co.uk/event/chocolate-experience-193/
END:VEVENT
BEGIN:VEVENT
DTSTART;TZID=UTC:20241124T093000
DTEND;TZID=UTC:20241124T110000
DTSTAMP:20260423T192353
CREATED:20240913T100705Z
LAST-MODIFIED:20240913T100705Z
UID:1699-1732440600-1732446000@jjasnack.co.uk
SUMMARY:Chocolate Experience
DESCRIPTION:
URL:https://jjasnack.co.uk/event/chocolate-experience-192/
END:VEVENT
BEGIN:VEVENT
DTSTART;TZID=UTC:20241123T110000
DTEND;TZID=UTC:20241123T123000
DTSTAMP:20260423T192353
CREATED:20240913T100622Z
LAST-MODIFIED:20240913T100622Z
UID:1696-1732359600-1732365000@jjasnack.co.uk
SUMMARY:Chocolate Experience
DESCRIPTION:
URL:https://jjasnack.co.uk/event/chocolate-experience-191/
END:VEVENT
BEGIN:VEVENT
DTSTART;TZID=UTC:20241123T093000
DTEND;TZID=UTC:20241123T110000
DTSTAMP:20260423T192353
CREATED:20240913T100133Z
LAST-MODIFIED:20240913T100133Z
UID:1693-1732354200-1732359600@jjasnack.co.uk
SUMMARY:Chocolate Experience
DESCRIPTION:
URL:https://jjasnack.co.uk/event/chocolate-experience-190/
END:VEVENT
BEGIN:VEVENT
DTSTART;TZID=UTC:20241122T110000
DTEND;TZID=UTC:20241122T123000
DTSTAMP:20260423T192353
CREATED:20240913T100046Z
LAST-MODIFIED:20240913T100046Z
UID:1690-1732273200-1732278600@jjasnack.co.uk
SUMMARY:Chocolate Experience
DESCRIPTION:
URL:https://jjasnack.co.uk/event/chocolate-experience-189/
END:VEVENT
BEGIN:VEVENT
DTSTART;TZID=UTC:20241122T093000
DTEND;TZID=UTC:20241122T110000
DTSTAMP:20260423T192353
CREATED:20240913T095846Z
LAST-MODIFIED:20240913T095846Z
UID:1687-1732267800-1732273200@jjasnack.co.uk
SUMMARY:Chocolate Experience
DESCRIPTION:
URL:https://jjasnack.co.uk/event/chocolate-experience-188/
END:VEVENT
BEGIN:VEVENT
DTSTART;TZID=UTC:20241117T110000
DTEND;TZID=UTC:20241117T123000
DTSTAMP:20260423T192353
CREATED:20240913T094732Z
LAST-MODIFIED:20240913T094732Z
UID:1672-1731841200-1731846600@jjasnack.co.uk
SUMMARY:Chocolate Experience
DESCRIPTION:
URL:https://jjasnack.co.uk/event/chocolate-experience-183/
END:VEVENT
BEGIN:VEVENT
DTSTART;TZID=UTC:20241117T093000
DTEND;TZID=UTC:20241117T110000
DTSTAMP:20260423T192353
CREATED:20240913T094650Z
LAST-MODIFIED:20240913T094650Z
UID:1669-1731835800-1731841200@jjasnack.co.uk
SUMMARY:Chocolate Experience
DESCRIPTION:
URL:https://jjasnack.co.uk/event/chocolate-experience-182/
END:VEVENT
BEGIN:VEVENT
DTSTART;TZID=UTC:20241116T110000
DTEND;TZID=UTC:20241116T123000
DTSTAMP:20260423T192353
CREATED:20240913T094609Z
LAST-MODIFIED:20241112T122106Z
UID:1666-1731754800-1731760200@jjasnack.co.uk
SUMMARY:Chocolate Experience
DESCRIPTION:
URL:https://jjasnack.co.uk/event/chocolate-experience-181/
END:VEVENT
BEGIN:VEVENT
DTSTART;TZID=UTC:20241116T093000
DTEND;TZID=UTC:20241116T110000
DTSTAMP:20260423T192353
CREATED:20240913T094525Z
LAST-MODIFIED:20240913T094525Z
UID:1663-1731749400-1731754800@jjasnack.co.uk
SUMMARY:Chocolate Experience
DESCRIPTION:
URL:https://jjasnack.co.uk/event/chocolate-experience-180/
END:VEVENT
END:VCALENDAR